BEGIN:VCALENDAR
VERSION:2.0
PRODID:-//U of G News - ECPv6.15.11//NONSGML v1.0//EN
CALSCALE:GREGORIAN
METHOD:PUBLISH
X-WR-CALNAME:U of G News
X-ORIGINAL-URL:https://news.uoguelph.ca
X-WR-CALDESC:Events for U of G News
REFRESH-INTERVAL;VALUE=DURATION:PT1H
X-Robots-Tag:noindex
X-PUBLISHED-TTL:PT1H
BEGIN:VTIMEZONE
TZID:America/Toronto
BEGIN:DAYLIGHT
TZOFFSETFROM:-0500
TZOFFSETTO:-0400
TZNAME:EDT
DTSTART:20250309T070000
END:DAYLIGHT
BEGIN:STANDARD
TZOFFSETFROM:-0400
TZOFFSETTO:-0500
TZNAME:EST
DTSTART:20251102T060000
END:STANDARD
BEGIN:DAYLIGHT
TZOFFSETFROM:-0500
TZOFFSETTO:-0400
TZNAME:EDT
DTSTART:20260308T070000
END:DAYLIGHT
BEGIN:STANDARD
TZOFFSETFROM:-0400
TZOFFSETTO:-0500
TZNAME:EST
DTSTART:20261101T060000
END:STANDARD
BEGIN:DAYLIGHT
TZOFFSETFROM:-0500
TZOFFSETTO:-0400
TZNAME:EDT
DTSTART:20270314T070000
END:DAYLIGHT
BEGIN:STANDARD
TZOFFSETFROM:-0400
TZOFFSETTO:-0500
TZNAME:EST
DTSTART:20271107T060000
END:STANDARD
END:VTIMEZONE
BEGIN:VEVENT
DTSTART;TZID=America/Toronto:20260519T093000
DTEND;TZID=America/Toronto:20260519T160000
DTSTAMP:20260424T045114
CREATED:20260410T163618Z
LAST-MODIFIED:20260410T163635Z
UID:213691-1779183000-1779206400@news.uoguelph.ca
SUMMARY:Application of Hydroxyl Radical Process for Decontaminating Meat and Eggs Workshop
DESCRIPTION:A workshop to bring awareness on the development and commercial application of the hydroxyl-radical process from an industry prospective \nAdvances in Poultry Meat\, Hatchery and Table Egg Disinfection\nJoin us in person for an exciting event diving into the latest innovations in gas phase disinfection techniques! Whether you’re into poultry meat\, hatcheries\, or table eggs\, this gathering covers it all. Discover how new methods are transforming safety and quality in the industry. Don’t miss out on the chance to connect with experts and enthusiasts alike! \nRegistration is free – lunch is included. \n 
URL:https://news.uoguelph.ca/event/application-of-hydroxyl-radical-process-for-decontaminating-meat-and-eggs-workshop/
LOCATION:University Centre – Peter Clark Hall
ATTACH;FMTTYPE=image/jpeg:https://news.uoguelph.ca/wp-content/uploads/2026/04/image-2-e1775838965667.jpeg
END:VEVENT
END:VCALENDAR