BEGIN:VCALENDAR
VERSION:2.0
PRODID:-//U of G News - ECPv6.15.11//NONSGML v1.0//EN
CALSCALE:GREGORIAN
METHOD:PUBLISH
X-WR-CALNAME:U of G News
X-ORIGINAL-URL:https://news.uoguelph.ca
X-WR-CALDESC:Events for U of G News
REFRESH-INTERVAL;VALUE=DURATION:PT1H
X-Robots-Tag:noindex
X-PUBLISHED-TTL:PT1H
BEGIN:VTIMEZONE
TZID:America/Toronto
BEGIN:DAYLIGHT
TZOFFSETFROM:-0500
TZOFFSETTO:-0400
TZNAME:EDT
DTSTART:20220313T070000
END:DAYLIGHT
BEGIN:STANDARD
TZOFFSETFROM:-0400
TZOFFSETTO:-0500
TZNAME:EST
DTSTART:20221106T060000
END:STANDARD
BEGIN:DAYLIGHT
TZOFFSETFROM:-0500
TZOFFSETTO:-0400
TZNAME:EDT
DTSTART:20230312T070000
END:DAYLIGHT
BEGIN:STANDARD
TZOFFSETFROM:-0400
TZOFFSETTO:-0500
TZNAME:EST
DTSTART:20231105T060000
END:STANDARD
BEGIN:DAYLIGHT
TZOFFSETFROM:-0500
TZOFFSETTO:-0400
TZNAME:EDT
DTSTART:20240310T070000
END:DAYLIGHT
BEGIN:STANDARD
TZOFFSETFROM:-0400
TZOFFSETTO:-0500
TZNAME:EST
DTSTART:20241103T060000
END:STANDARD
BEGIN:DAYLIGHT
TZOFFSETFROM:-0500
TZOFFSETTO:-0400
TZNAME:EDT
DTSTART:20250309T070000
END:DAYLIGHT
BEGIN:STANDARD
TZOFFSETFROM:-0400
TZOFFSETTO:-0500
TZNAME:EST
DTSTART:20251102T060000
END:STANDARD
BEGIN:DAYLIGHT
TZOFFSETFROM:-0500
TZOFFSETTO:-0400
TZNAME:EDT
DTSTART:20260308T070000
END:DAYLIGHT
BEGIN:STANDARD
TZOFFSETFROM:-0400
TZOFFSETTO:-0500
TZNAME:EST
DTSTART:20261101T060000
END:STANDARD
BEGIN:DAYLIGHT
TZOFFSETFROM:-0500
TZOFFSETTO:-0400
TZNAME:EDT
DTSTART:20270314T070000
END:DAYLIGHT
BEGIN:STANDARD
TZOFFSETFROM:-0400
TZOFFSETTO:-0500
TZNAME:EST
DTSTART:20271107T060000
END:STANDARD
END:VTIMEZONE
BEGIN:VEVENT
DTSTART;TZID=America/Toronto:20260328T100000
DTEND;TZID=America/Toronto:20260328T190000
DTSTAMP:20260423T180119
CREATED:20260129T163501Z
LAST-MODIFIED:20260129T163501Z
UID:212816-1774692000-1774724400@news.uoguelph.ca
SUMMARY:Signs of Spring Craft Show
DESCRIPTION:Signs of Spring Craft Show \nJoin us on March 27 and 28 at the University Centre\, U of G. \nCome explore unique handmade crafts\, support local artisans & find One-Of-A-Kind treasurers! SHOP: Delicious Food\, Jewelry\, Soaps & Lotions\, Pottery\, Woodcrafts\, and So Much More!   For more information\, Visit https://signsofspring.ca/ for more information. FREE Admission! \nHours: \n\nFriday\, March 27\, 10 a.m.  to 7 p.m.\nSaturday\, March 28\, 10 a.m. to 7 p.m.
URL:https://news.uoguelph.ca/event/signs-of-spring-craft-show/2026-03-28/
LOCATION:University Centre Courtyard\, Ontario\, Canada
ATTACH;FMTTYPE=image/png:https://news.uoguelph.ca/wp-content/uploads/2026/01/Signs-of-Spring-2025-Plain-Intranet-Banner.png
GEO:43.5305188;-80.2262524
END:VEVENT
BEGIN:VEVENT
DTSTART;TZID=America/Toronto:20260327T100000
DTEND;TZID=America/Toronto:20260327T190000
DTSTAMP:20260423T180119
CREATED:20260129T163501Z
LAST-MODIFIED:20260312T181250Z
UID:210827-1774605600-1774638000@news.uoguelph.ca
SUMMARY:Signs of Spring Craft Show
DESCRIPTION:Signs of Spring Craft Show \nJoin us on March 27 and 28 at the University Centre\, U of G. \nCome explore unique handmade crafts\, support local artisans & find One-Of-A-Kind treasurers! SHOP: Delicious Food\, Jewelry\, Soaps & Lotions\, Pottery\, Woodcrafts\, and So Much More!   For more information\, Visit https://signsofspring.ca/ for more information. FREE Admission! \nHours: \n\nFriday\, March 27\, 10 a.m.  to 7 p.m.\nSaturday\, March 28\, 10 a.m. to 7 p.m.
URL:https://news.uoguelph.ca/event/signs-of-spring-craft-show/2026-03-27/
LOCATION:University Centre Courtyard\, Ontario\, Canada
ATTACH;FMTTYPE=image/png:https://news.uoguelph.ca/wp-content/uploads/2026/01/Signs-of-Spring-2025-Plain-Intranet-Banner.png
GEO:43.5305188;-80.2262524
END:VEVENT
BEGIN:VEVENT
DTSTART;TZID=America/Toronto:20260310T113000
DTEND;TZID=America/Toronto:20260310T143000
DTSTAMP:20260423T180119
CREATED:20260224T205455Z
LAST-MODIFIED:20260224T205455Z
UID:212147-1773142200-1773153000@news.uoguelph.ca
SUMMARY:Further Education Fair
DESCRIPTION:Join us for the Further Education Fair! \nDate: Tuesday\, March 10\, 2026\nTime: 11:30 a.m. – 2:30 p.m.\nLocation: University Centre Courtyard \nAttend this in-person event to connect with academic institutions and explore post-grad opportunities such as: \n\nPost-grad certificates\nGraduate programs\nLaw schools\nMBA programs\nTeaching education programs\nHealth programs\nStudy abroad\n\nLearn about program choices\, admission requirements and deadlines\, and tips for successful applications. \nSchool attending include: \n\nCanadian Academy of Osteopathy\nCANTEACH\nConestoga College\nGUS Medical Schools\nHumber Polytechnic\nIvey Business School – Western University\nMcMaster University – DeGroote School of Business\nOsgoode Hall Law School\, York University\nTyndale University\nUniversity of Guelph CBS Graduate Programs\nUniversity of Guelph Lang Graduate Programs\nUniversity of Medicine and Health Sciences\nUniversity of Niagara Falls Canada\nUniversity of Waterloo\, Master of Taxation Program\n\nStudents of all year levels and programs are welcome.
URL:https://news.uoguelph.ca/event/further-education-fair-2/
LOCATION:University Centre Courtyard\, Ontario\, Canada
ATTACH;FMTTYPE=image/png:https://news.uoguelph.ca/wp-content/uploads/2026/02/Gryphlife-5.png
GEO:43.5305188;-80.2262524
END:VEVENT
BEGIN:VEVENT
DTSTART;TZID=America/Toronto:20260210T113000
DTEND;TZID=America/Toronto:20260210T143000
DTSTAMP:20260423T180119
CREATED:20260115T211747Z
LAST-MODIFIED:20260115T211747Z
UID:210441-1770723000-1770733800@news.uoguelph.ca
SUMMARY:Experience Guelph Job Fair Day 2
DESCRIPTION:Connect in person with organizations from diverse industries at the Experience Guelph Job Fair\, open to all students\, across all programs and years! \nDate: Tuesday\, Feb. 10\, 2026\nEvent Time: 11:30 a.m. – 2:30 p.m.\nLocation: University Centre\, Courtyard\, University of Guelph \nThe Experience Guelph Job Fair is our largest on-campus event for organizations to network with U of G students for upcoming summer co-op work terms\, part-time and full-time jobs. \nLand your first post-grad job\, summer job\, or secure your next co-op work term\nLearn about different industries\, trends\, and career options\nBring hard copies of your resume \nEmployers: \n\nAfrican Lion Safari\nAvayda Pest Control\nA- Way to Work – International Rural Exchange Canada\nBMO Bank of Montreal\nBonanza Gardens\nCamp Kodiak\nCanadian Armed Forces\nDeerhurst Resort\nGraham Scott Enns LLP\nGuelph Police Service\nHalton Regional Police Service\nHighland Pines Campground\nInvestMint Inc.\nRoyal Canadian Navy\nSchaeffler Group\nThe Career Foundation – Youth Thrive\nTULLOCH\nVehikl\nWaterloo Regional Police\nWestern Financial Group\n\n*Check back for the full list as employers are added. \n*Note that this is a two-day event. For details on Day 1\, click here. \nIf you require accommodation or have any questions\, please contact Jennifer Cowie\, Events & Employer Development Coordinator\, Experiential Learning Hub jcowie@uoguelph.ca
URL:https://news.uoguelph.ca/event/experience-guelph-job-fair-day-2/
LOCATION:University Centre Courtyard\, Ontario\, Canada
ATTACH;FMTTYPE=image/png:https://news.uoguelph.ca/wp-content/uploads/2026/01/EG-Event-Image-2-1.png
GEO:43.5305188;-80.2262524
END:VEVENT
BEGIN:VEVENT
DTSTART;TZID=America/Toronto:20260209T113000
DTEND;TZID=America/Toronto:20260209T143000
DTSTAMP:20260423T180119
CREATED:20260116T142735Z
LAST-MODIFIED:20260116T142735Z
UID:210496-1770636600-1770647400@news.uoguelph.ca
SUMMARY:Experience Guelph Job Fair Day 1
DESCRIPTION:Meet in-person with companies from various industries for a recruitment event for all students in all programs and years! \nDate: Monday\, February 9\, 2026\nEvent Time: 11:30 a.m. – 2:30 p.m.\nLocation: University Centre\, Courtyard\, University of Guelph \nThe Experience Guelph Job Fair is our largest on-campus event for organizations to network with U of G students for upcoming summer co-op work terms\, part-time and full-time jobs. \n\nLand your first post-grad job\, summer job\, or secure your next co-op work term\nLearn about different industries\, trends\, and career options\nBring hard copies of your resume\n\nEmployers: \n\nA – Way to Work – International Rural Exchange Canada\n\nBeaudoin Construction\nBMO Bank of Montreal\nCanadian Agricultural Human Resource Council\nConestoga Meat Packers Ltd. \nExtrada Tech\nHaveman Brothers\nHuber Window Cleaning\nInvestMint Inc.\nLactanet\nMark Anthony Group\nPremier Equipment\nRoyal Canadian Navy\nStepping Stone\nSwivel Property Maintenance\nThe Crump Group Inc\nUpper Grand District School Board\nVehikl\nWaterloo Regional Police\nYouth Challenge International\n\n*Check back for the full list as employers are added. \n*Note that this is a two-day event. For details on Day 2\, click here. \nIf you require accommodation or have any questions\, please contact\nJennifer Cowie\, Events & Employer Development Coordinator\, Experiential Learning Hub\njcowie@uoguelph.ca 
URL:https://news.uoguelph.ca/event/experience-guelph-job-fair-day-1/
LOCATION:University Centre Courtyard\, Ontario\, Canada
ATTACH;FMTTYPE=image/png:https://news.uoguelph.ca/wp-content/uploads/2026/01/EG-Event-Image-2-1.png
GEO:43.5305188;-80.2262524
END:VEVENT
BEGIN:VEVENT
DTSTART;TZID=America/Toronto:20260121T113000
DTEND;TZID=America/Toronto:20260121T143000
DTSTAMP:20260423T180119
CREATED:20260115T211917Z
LAST-MODIFIED:20260115T211917Z
UID:210473-1768995000-1769005800@news.uoguelph.ca
SUMMARY:Sustainable Futures Opportunities Fair
DESCRIPTION:Sustainable Futures Opportunities Fair \nLearn how students\, campus groups\, and external organizations are shaping a sustainable future. \nJoin us at the Sustainable Futures Opportunities Fair – a chance to explore initiatives\, share ideas\, and connect with others passionate about sustainability. \nHere’s what you can do: \n\nVisit exhibitor tables hosted by student clubs\, campus and external organizations showcasing their projects and opportunities.\nLearn and collaborate with peers\, U of G staff\, and organization representatives who share your vision for a sustainable future.\nGet inspired by the creativity and impact happening across campus and beyond!\nPLUS: Scan a QR code during the event for a chance to win a gift card toward Arboretum professional development training to boost your resume\, skills\, and career impact on a sustainable future.\n\nLet’s come together and strengthen our campus community working toward sustainable futures! \nDate: Wednesday\, Jan. 21\, 2026 \nTime: 11:30 a.m. to 2:30 p.m. \nLocation: UC Courtyard \nThis event is part of Futures Month – a month-long series dedicated to promoting resources\, careers\, and initiatives that create sustainable futures. Learn more about Futures Month and related events here.
URL:https://news.uoguelph.ca/event/sustainable-futures-opportunities-fair/
LOCATION:University Centre Courtyard\, Ontario\, Canada
ATTACH;FMTTYPE=image/png:https://news.uoguelph.ca/wp-content/uploads/2026/01/EG-Event-Image-1.png
GEO:43.5305188;-80.2262524
END:VEVENT
BEGIN:VEVENT
DTSTART;TZID=America/Toronto:20260120T110000
DTEND;TZID=America/Toronto:20260120T140000
DTSTAMP:20260423T180119
CREATED:20260116T142610Z
LAST-MODIFIED:20260116T142746Z
UID:210491-1768906800-1768917600@news.uoguelph.ca
SUMMARY:Volunteer Fair
DESCRIPTION:Join Student Volunteer Connections (SVC) for the Winter 2026 Volunteer Fair! \nThis bi-annual Volunteer Fair will take place in the University Centre Courtyard on Tuesday\, Jan. 20 from 11 a.m. to 1 p.m. This fair is an opportunity to meet personally with local organizations about their current and upcoming volunteer opportunities. \nThis fair is for you if: \n\nYou are thinking about volunteering in the future but are not ready to start yet\,\nYou want to start volunteering as soon as possible\,\nYou are already volunteering and want to see what else is out there!\n\nTIPS: \n\nBe prepared for on-the-spot interviews\, dress for success!\nBring your resume\nBrowse through our list of participating organizations ahead of time:\n\n\n10C Shared Space\nAction Read Community Literacy Centre\nAutism Dog Services\nBig Brothers Big Sisters Centre Wellington\nBrain Tumour Foundation of Canada\nCanadian Blood Services\nCanadian Mental Health Association Waterloo-Wellington & The Grove Youth Wellness Hubs\nCareer Education Council\nCareer Foundation – Thrive Program\nCFRU 93.3FM\nCity of Guelph\nCommunity of Hearts Lifelong Learning Centre \nCompass Community Services\nCrime Stoppers Guelph Wellington\nFamily and Children Services of Guelph and Wellington\nFood Uniting Neighbours (f.u.n.)\nGirl Guides of Canada\nGreen Legacy Tree Nursery Programme\nGuelph Centre for Urban Organic Farming (GCUOF)\nGuelph Food Bank\nGuelph Humane Society\nHabitat for Humanity Guelph Wellington\nLearning Disabilities Association of Wellington Count\nMichael House Pregnancy and Parenting Support Services\nMood Disorders Society of Canada – National Youth Advisory Council\nNational Service Dogs\nNeurodiversity Club (CSA Student Club)\nNightingale Centre\nOPIRG Guelph (Ontario Public Interest Research Group)\nOut on the Shelf\nParkinson Society Southwestern Ontario\nProject SEARCH\nRelay For Life (CSA Student Club)\nStarts With Youth (Guelph Chapter)\nStepping Stone\nStudent Accessibility Services – Notetaking Program\nStudent Experience (Orientation Volunteer Team and Peer Helper Program)\nSunrise Therapeutic Riding & Learning Centre\nStudent Volunteer Connections – Volunteer Fair Hosts! \nThe Ontarion – U of G’s Independent Student Newspaper\nU of G Writer’s Association (CSA Student Club)\nUnited for Literacy\nUnited Way Guelph-Wellington-Dufferin\nUniversity of Guelph Ambassadors
URL:https://news.uoguelph.ca/event/volunteer-fair/
LOCATION:University Centre Courtyard\, Ontario\, Canada
ATTACH;FMTTYPE=image/png:https://news.uoguelph.ca/wp-content/uploads/2026/01/EG-Event-Image.png
GEO:43.5305188;-80.2262524
END:VEVENT
BEGIN:VEVENT
DTSTART;TZID=America/Toronto:20251116T100000
DTEND;TZID=America/Toronto:20251116T170000
DTSTAMP:20260423T180119
CREATED:20251001T172316Z
LAST-MODIFIED:20251001T172316Z
UID:203903-1763287200-1763312400@news.uoguelph.ca
SUMMARY:Fair November
DESCRIPTION:Join us for the 50th Annual Fair November Craft Show\, Nov. 13 to 16\, at the University of Guelph’s University Centre Building. \nEnjoy FREE admission to this event that features over 90 amazing local artisans showcasing their one-of-a-kind creations! Discover beautifully handcrafted Jewellery\, Knits\, Needlework\, Soaps & Lotions\, along with delicious Gourmet Treats that bring culinary artistry to life. Explore booths filled with finely crafted leather goods\, metalwork\, glass designs\, and pottery that celebrate originality and craftsmanship. Whether you’re searching for the perfect gift or something special for yourself\, the Fair November Craft Show offers a festival of craft\, community\, and creativity.
URL:https://news.uoguelph.ca/event/fair-november-4/2025-11-16/
LOCATION:University Centre Courtyard\, Ontario\, Canada
ATTACH;FMTTYPE=image/png:https://news.uoguelph.ca/wp-content/uploads/2025/10/Fair-November-e1759339390239.png
GEO:43.5305188;-80.2262524
END:VEVENT
BEGIN:VEVENT
DTSTART;TZID=America/Toronto:20251115T100000
DTEND;TZID=America/Toronto:20251115T190000
DTSTAMP:20260423T180119
CREATED:20251001T172316Z
LAST-MODIFIED:20251001T172316Z
UID:203901-1763200800-1763233200@news.uoguelph.ca
SUMMARY:Fair November
DESCRIPTION:Join us for the 50th Annual Fair November Craft Show\, Nov. 13 to 16\, at the University of Guelph’s University Centre Building. \nEnjoy FREE admission to this event that features over 90 amazing local artisans showcasing their one-of-a-kind creations! Discover beautifully handcrafted Jewellery\, Knits\, Needlework\, Soaps & Lotions\, along with delicious Gourmet Treats that bring culinary artistry to life. Explore booths filled with finely crafted leather goods\, metalwork\, glass designs\, and pottery that celebrate originality and craftsmanship. Whether you’re searching for the perfect gift or something special for yourself\, the Fair November Craft Show offers a festival of craft\, community\, and creativity.
URL:https://news.uoguelph.ca/event/fair-november-4/2025-11-15/
LOCATION:University Centre Courtyard\, Ontario\, Canada
ATTACH;FMTTYPE=image/png:https://news.uoguelph.ca/wp-content/uploads/2025/10/Fair-November-e1759339390239.png
GEO:43.5305188;-80.2262524
END:VEVENT
BEGIN:VEVENT
DTSTART;TZID=America/Toronto:20251114T100000
DTEND;TZID=America/Toronto:20251114T210000
DTSTAMP:20260423T180119
CREATED:20251001T172316Z
LAST-MODIFIED:20251001T172316Z
UID:203899-1763114400-1763154000@news.uoguelph.ca
SUMMARY:Fair November
DESCRIPTION:Join us for the 50th Annual Fair November Craft Show\, Nov. 13 to 16\, at the University of Guelph’s University Centre Building. \nEnjoy FREE admission to this event that features over 90 amazing local artisans showcasing their one-of-a-kind creations! Discover beautifully handcrafted Jewellery\, Knits\, Needlework\, Soaps & Lotions\, along with delicious Gourmet Treats that bring culinary artistry to life. Explore booths filled with finely crafted leather goods\, metalwork\, glass designs\, and pottery that celebrate originality and craftsmanship. Whether you’re searching for the perfect gift or something special for yourself\, the Fair November Craft Show offers a festival of craft\, community\, and creativity.
URL:https://news.uoguelph.ca/event/fair-november-4/2025-11-14/
LOCATION:University Centre Courtyard\, Ontario\, Canada
ATTACH;FMTTYPE=image/png:https://news.uoguelph.ca/wp-content/uploads/2025/10/Fair-November-e1759339390239.png
GEO:43.5305188;-80.2262524
END:VEVENT
BEGIN:VEVENT
DTSTART;TZID=America/Toronto:20251113T100000
DTEND;TZID=America/Toronto:20251113T210000
DTSTAMP:20260423T180119
CREATED:20251001T172316Z
LAST-MODIFIED:20251027T175435Z
UID:203147-1763028000-1763067600@news.uoguelph.ca
SUMMARY:Fair November
DESCRIPTION:Join us for the 50th Annual Fair November Craft Show\, Nov. 13 to 16\, at the University of Guelph’s University Centre Building. \nEnjoy FREE admission to this event that features over 90 amazing local artisans showcasing their one-of-a-kind creations! Discover beautifully handcrafted Jewellery\, Knits\, Needlework\, Soaps & Lotions\, along with delicious Gourmet Treats that bring culinary artistry to life. Explore booths filled with finely crafted leather goods\, metalwork\, glass designs\, and pottery that celebrate originality and craftsmanship. Whether you’re searching for the perfect gift or something special for yourself\, the Fair November Craft Show offers a festival of craft\, community\, and creativity.
URL:https://news.uoguelph.ca/event/fair-november-4/2025-11-13/
LOCATION:University Centre Courtyard\, Ontario\, Canada
ATTACH;FMTTYPE=image/png:https://news.uoguelph.ca/wp-content/uploads/2025/10/Fair-November-e1759339390239.png
GEO:43.5305188;-80.2262524
END:VEVENT
BEGIN:VEVENT
DTSTART;TZID=America/Toronto:20251111T103000
DTEND;TZID=America/Toronto:20251111T111500
DTSTAMP:20260423T180119
CREATED:20251027T154345Z
LAST-MODIFIED:20251030T175347Z
UID:203894-1762857000-1762859700@news.uoguelph.ca
SUMMARY:Remembrance Day Ceremony
DESCRIPTION:As U of G honours those who have served and continue to serve during times of conflict\, students\, faculty and staff are invited to take part in a Remembrance Day event that begins in the UC and processes to War Memorial Hall (event takes place rain or shine).  All are welcome to attend. \nNovember 11 @ 10:30 to 11:15 a.m. – University Centre to War Memorial Hall/Alumni Plaza \nThe service includes: \n\nFormal remarks in Branion Plaza\nCommunity procession to lay wreaths on steps of War Memorial Hall\nMusic by Gryphons Singers\, Last Post\, moment of silence and Rouse on steps of War Memorial Hall
URL:https://news.uoguelph.ca/event/remembrance-day-ceremony/
LOCATION:University Centre Courtyard\, Ontario\, Canada
ATTACH;FMTTYPE=image/jpeg:https://news.uoguelph.ca/wp-content/uploads/2023/10/hero-image-poppies-1.jpg
GEO:43.5305188;-80.2262524
END:VEVENT
BEGIN:VEVENT
DTSTART;TZID=America/Toronto:20251106T103000
DTEND;TZID=America/Toronto:20251106T140000
DTSTAMP:20260423T180119
CREATED:20251022T192839Z
LAST-MODIFIED:20251022T192839Z
UID:203748-1762425000-1762437600@news.uoguelph.ca
SUMMARY:Financial Literacy Fair
DESCRIPTION:November is Financial Literacy Month! To celebrate\, Student Financial Services is hosting our annual Financial Literacy Fair on November 6. Join us in the University Centre courtyard between 10:30 a.m. and 2 p.m. \nThe Financial Literacy Fair is the perfect place to learn more about how to manage your finances\, PLUS there will be free cotton candy and popcorn. You can also try out our popular Tuition Tornado game to win great prizes\, including U of G swag\, gift cards\, Frosty Mug tickets AND a grand prize of $1\,000 towards your Winter 2026 semester tuition and fees.
URL:https://news.uoguelph.ca/event/financial-literacy-fair-8/
LOCATION:University Centre Courtyard\, Ontario\, Canada
ATTACH;FMTTYPE=image/jpeg:https://news.uoguelph.ca/wp-content/uploads/2025/10/financial-literacy-fair-banner-e1761161310201.jpg
GEO:43.5305188;-80.2262524
END:VEVENT
BEGIN:VEVENT
DTSTART;TZID=America/Toronto:20251009T100000
DTEND;TZID=America/Toronto:20251009T180000
DTSTAMP:20260423T180119
CREATED:20251001T171816Z
LAST-MODIFIED:20251001T172407Z
UID:203136-1760004000-1760032800@news.uoguelph.ca
SUMMARY:Guelph Butter Tart Festival
DESCRIPTION:The Guelph Butter Tart Festival is coming to the University of Guelph this Fall! Come join us for a sweet and tasty experience celebrating everyone’s favourite Canadian treat – butter tarts! Indulge in a variety of delicious butter tarts and other baked goodies from local vendors\, each offering their unique twist on this classic dessert. Whether you prefer them gooey\, flaky\, or filled with nuts\, there will be something for every butter tart lover to enjoy. Don’t miss out on this scrumptious event filled with buttery goodness! This event is FREE and does not require any tickets or registration to attend.
URL:https://news.uoguelph.ca/event/guelph-butter-tart-festival/
LOCATION:University Centre Courtyard\, Ontario\, Canada
ATTACH;FMTTYPE=image/png:https://news.uoguelph.ca/wp-content/uploads/2025/10/Guelph-Butter-Tart-Festival-e1759339090510.png
GEO:43.5305188;-80.2262524
END:VEVENT
BEGIN:VEVENT
DTSTART;TZID=America/Toronto:20250911T103000
DTEND;TZID=America/Toronto:20250911T153000
DTSTAMP:20260423T180119
CREATED:20250902T183559Z
LAST-MODIFIED:20250902T183559Z
UID:202091-1757586600-1757604600@news.uoguelph.ca
SUMMARY:Campus Master Plan Pop-up
DESCRIPTION:Share your ideas about the future of our campus\nThe University is updating its campus master plan to guide decisions about lands\, facilities and amenities. Drop by one of our engagement pop-ups to share ideas\, ask questions\, and learn more about the process. All are welcome. Find us on Sept. 10 in Branion Plaza from 10:30 a.m. to 3:30 p.m. or on Sept. 11 in the UC Courtyard from 10:30 a.m. to 3:30 p.m.
URL:https://news.uoguelph.ca/event/campus-master-plan-pop-up-2/
LOCATION:University Centre Courtyard\, Ontario\, Canada
ATTACH;FMTTYPE=image/jpeg:https://news.uoguelph.ca/wp-content/uploads/2025/04/Johnston-Green-CampusGeneric.jpg
GEO:43.5305188;-80.2262524
END:VEVENT
BEGIN:VEVENT
DTSTART;TZID=America/Toronto:20250326T120000
DTEND;TZID=America/Toronto:20250326T160000
DTSTAMP:20260423T180119
CREATED:20250226T135456Z
LAST-MODIFIED:20250226T135456Z
UID:157704-1742990400-1743004800@news.uoguelph.ca
SUMMARY:LaunchLab Expo - Celebrate Student Entrepreneurship
DESCRIPTION:The John F. Wood Centre is excited to announce the return of the LaunchLab Expo\, a showcase of the next generation of student entrepreneurs! \nThe LaunchLab Expo showcases the innovative ventures of student founders from the Hub Incubator’s LaunchLab program. The event provides a platform for these emerging entrepreneurs to present their ideas\, field questions\, gather valuable feedback\, and gain experience in a trade show setting. \nThis drop-in event is open to all students\, staff\, faculty\, and the public. It is a great opportunity to meet student founders\, explore their ventures\, and network with fellow students\, faculty\, staff\, and industry and community members. Plus\, you’ll have a chance to vote for the People’s Choice Award! \nWe invite you to join us in celebrating these hardworking students as they share their innovations with the public for the first time and set out on their entrepreneurial journeys! \n 
URL:https://news.uoguelph.ca/event/launchlab-expo-celebrate-student-entrepreneurship/
LOCATION:University Centre Courtyard\, Ontario\, Canada
ATTACH;FMTTYPE=image/png:https://news.uoguelph.ca/wp-content/uploads/2025/02/Screenshot-2025-02-25-at-1-29-39 PM-e1740578081908.png
GEO:43.5305188;-80.2262524
END:VEVENT
BEGIN:VEVENT
DTSTART;VALUE=DATE:20240301
DTEND;VALUE=DATE:20240302
DTSTAMP:20260423T180119
CREATED:20240212T165842Z
LAST-MODIFIED:20240212T174558Z
UID:111309-1709251200-1709337599@news.uoguelph.ca
SUMMARY:GREAT at U of G Presents: Employee Appreciation Day Celebrations
DESCRIPTION:Employee Appreciation Day is on Friday\, March 1 and GREAT at U of G is delighted to invite you to join the festivities. Appreciation is the acknowledgement and enjoyment of the good qualities of someone or something. \nThis year\, visit the UC Courtyard on Friday\, March 1 from 12:15 p.m. – 1:30 p.m. to socialize\, enjoy live music\, partake in specialty desserts and beverages\, and enter your ballot for one of three exciting prizes! \n\n12:15 p.m. – 12:30 p.m. – Opening and Remarks\n12:30 p.m. – 1:30 p.m. – Live music\, specialty desserts\, beverages\, and prizes\n\nRegistration\nVisit the event page and register to help us estimate Hospitality orders. \nVirtual Prize Draw\nTo get in the spirit\, GREAT at U of G invites you to consider “What is one thing that you appreciate about your University of Guelph Community?” Post your answer on the Employee Appreciation Day Kudoboard by Friday\, March 1\, 5 p.m. to be entered for one of two prizes valued at approximately $100 each!
URL:https://news.uoguelph.ca/event/great-at-u-of-g-presents-employee-appreciation-day-celebrations/
LOCATION:University Centre Courtyard\, Ontario\, Canada
CATEGORIES:Intranet Events
ATTACH;FMTTYPE=image/png:https://news.uoguelph.ca/wp-content/uploads/2024/02/Employee-appreciation-day-banner--e1707757202755.png
GEO:43.5305188;-80.2262524
END:VEVENT
BEGIN:VEVENT
DTSTART;TZID=America/Toronto:20240220T093000
DTEND;TZID=America/Toronto:20240220T110000
DTSTAMP:20260423T180119
CREATED:20240131T144347Z
LAST-MODIFIED:20240131T144347Z
UID:110508-1708421400-1708426800@news.uoguelph.ca
SUMMARY:Take Your Break: Free Hot Beverage for All Employees
DESCRIPTION:Taking regular breaks during the workday can help you destress and recharge. Stop by the UC Courtyard or the OVC Cafeteria between 9:30 and 11:00 a.m. for a free hot beverage. Bring along your colleagues. This opportunity is available for all U of G employees. \nThe Take Your Break event is not just about recognizing our staff and faculty for all the amazing things they do by providing them with free drinks and snacks. It is also about making the space to engage in healthy work habits\, step away from our workspaces to take a walk\, and do it with our colleagues to support our mental and social well-being.
URL:https://news.uoguelph.ca/event/take-your-break-free-hot-beverage-for-all-employees-3/
LOCATION:University Centre Courtyard\, Ontario\, Canada
CATEGORIES:Intranet Events
GEO:43.5305188;-80.2262524
END:VEVENT
BEGIN:VEVENT
DTSTART;TZID=America/Toronto:20240212T090000
DTEND;TZID=America/Toronto:20240212T150000
DTSTAMP:20260423T180119
CREATED:20240205T141532Z
LAST-MODIFIED:20240205T141532Z
UID:110792-1707728400-1707750000@news.uoguelph.ca
SUMMARY:UC Agriculture Day
DESCRIPTION:Come on out to the UC for UC Ag Day happening on February 12th\, 2024. \nLearn about different agriculture industries in Canada such as dairy\, poultry\, swine\, beef and cash crop farming. You will have the opportunity to speak with students who are involved in many areas of agriculture\, and voice your questions and inquiries about Canadian agriculture. \nClubs that are apart of the Ontario Agricultural College will also have poster boards on display with information about different agriculture industries\, as well as pictures and descriptions of what their club gets up to here on campus and in the community! There will also be popcorn and some free giveaways!
URL:https://news.uoguelph.ca/event/uc-agriculture-day/
LOCATION:University Centre Courtyard\, Ontario\, Canada
CATEGORIES:Intranet Events
ATTACH;FMTTYPE=image/png:https://news.uoguelph.ca/wp-content/uploads/2024/02/image.png
GEO:43.5305188;-80.2262524
END:VEVENT
BEGIN:VEVENT
DTSTART;TZID=America/Toronto:20231130T100000
DTEND;TZID=America/Toronto:20231130T140000
DTSTAMP:20260423T180119
CREATED:20231116T163715Z
LAST-MODIFIED:20231116T163715Z
UID:107570-1701338400-1701352800@news.uoguelph.ca
SUMMARY:United Way Bazaar
DESCRIPTION:Join us for the United Way Bazaar\, brought to you by Hospitality Services! \nThursday\, November 30\, 10 a.m. to 2 p.m.\, University Centre Courtyard. \nFeaturing: \n\nGreat raffle prizes\nBake sale\nU of G Bookstore Items\nUsed Book Sale\n\n 
URL:https://news.uoguelph.ca/event/united-way-bazaar/
LOCATION:University Centre Courtyard\, Ontario\, Canada
CATEGORIES:Intranet Events
ATTACH;FMTTYPE=image/png:https://news.uoguelph.ca/wp-content/uploads/2023/11/united-way-bazaar.png
GEO:43.5305188;-80.2262524
END:VEVENT
END:VCALENDAR