BEGIN:VCALENDAR
VERSION:2.0
PRODID:-//U of G News - ECPv6.15.11//NONSGML v1.0//EN
CALSCALE:GREGORIAN
METHOD:PUBLISH
X-WR-CALNAME:U of G News
X-ORIGINAL-URL:https://news.uoguelph.ca
X-WR-CALDESC:Events for U of G News
REFRESH-INTERVAL;VALUE=DURATION:PT1H
X-Robots-Tag:noindex
X-PUBLISHED-TTL:PT1H
BEGIN:VTIMEZONE
TZID:America/Toronto
BEGIN:DAYLIGHT
TZOFFSETFROM:-0500
TZOFFSETTO:-0400
TZNAME:EDT
DTSTART:20250309T070000
END:DAYLIGHT
BEGIN:STANDARD
TZOFFSETFROM:-0400
TZOFFSETTO:-0500
TZNAME:EST
DTSTART:20251102T060000
END:STANDARD
BEGIN:DAYLIGHT
TZOFFSETFROM:-0500
TZOFFSETTO:-0400
TZNAME:EDT
DTSTART:20260308T070000
END:DAYLIGHT
BEGIN:STANDARD
TZOFFSETFROM:-0400
TZOFFSETTO:-0500
TZNAME:EST
DTSTART:20261101T060000
END:STANDARD
BEGIN:DAYLIGHT
TZOFFSETFROM:-0500
TZOFFSETTO:-0400
TZNAME:EDT
DTSTART:20270314T070000
END:DAYLIGHT
BEGIN:STANDARD
TZOFFSETFROM:-0400
TZOFFSETTO:-0500
TZNAME:EST
DTSTART:20271107T060000
END:STANDARD
END:VTIMEZONE
BEGIN:VEVENT
DTSTART;TZID=America/Toronto:20260504T091500
DTEND;TZID=America/Toronto:20260504T160000
DTSTAMP:20260424T141823
CREATED:20251117T140422Z
LAST-MODIFIED:20251117T140748Z
UID:209002-1777886100-1777910400@news.uoguelph.ca
SUMMARY:Faculty (and Staff) Writing Retreat 2026 - Hybrid
DESCRIPTION:Writing Services  hosts this free\, week-long retreat for University of Guelph’s faculty\, staff\, and visiting/postdoctoral scholars working on scholarly writing projects. More information on the Faculty (and Staff) Writing Retreat – FWR. \n(IMPORTANT: Graduate students should apply for the Dissertation Writing Retreat.) \nDates: Monday to Friday\, May 4 – 8\, 2026 from 9:15 a.m. to 4  p.m. \nAre you trying to find time to work on an article or book chapter? Register now for the 15th annual Faculty Writing Retreat (FWR). \nThe retreat offers an opportunity to build a supportive writing group with colleagues from across the university and to join in group discussions on writing and publishing. Individual consultations are also available. \nParticipants should plan to be available for all five days of the retreat. However\, accommodations can be arranged. \nRegistration will be limited on a first-come\, first-served basis. \nLocation: Hybrid on Zoom and in-person in a quiet\, comfortable space in the McLaughlin Library. \nThere are two registration options\, online and in person. You are welcome to participate both online and in person throughout this week. \nNote: However\, if you plan to attend any of the days in person\, please register for the “in-person” option\, as we require these numbers to help us prepare our classroom spaces. \nIf you have questions\, please email library@uoguelph.ca.
URL:https://news.uoguelph.ca/event/faculty-and-staff-writing-retreat-2026-hybrid/2026-05-04/
LOCATION:ONLINE and IN-PERSON\, Ontario\, Canada
GEO:51.253775;-85.323214
END:VEVENT
BEGIN:VEVENT
DTSTART;TZID=America/Toronto:20260505T091500
DTEND;TZID=America/Toronto:20260505T160000
DTSTAMP:20260424T141823
CREATED:20251117T140422Z
LAST-MODIFIED:20251117T140748Z
UID:209015-1777972500-1777996800@news.uoguelph.ca
SUMMARY:Faculty (and Staff) Writing Retreat 2026 - Hybrid
DESCRIPTION:Writing Services  hosts this free\, week-long retreat for University of Guelph’s faculty\, staff\, and visiting/postdoctoral scholars working on scholarly writing projects. More information on the Faculty (and Staff) Writing Retreat – FWR. \n(IMPORTANT: Graduate students should apply for the Dissertation Writing Retreat.) \nDates: Monday to Friday\, May 4 – 8\, 2026 from 9:15 a.m. to 4  p.m. \nAre you trying to find time to work on an article or book chapter? Register now for the 15th annual Faculty Writing Retreat (FWR). \nThe retreat offers an opportunity to build a supportive writing group with colleagues from across the university and to join in group discussions on writing and publishing. Individual consultations are also available. \nParticipants should plan to be available for all five days of the retreat. However\, accommodations can be arranged. \nRegistration will be limited on a first-come\, first-served basis. \nLocation: Hybrid on Zoom and in-person in a quiet\, comfortable space in the McLaughlin Library. \nThere are two registration options\, online and in person. You are welcome to participate both online and in person throughout this week. \nNote: However\, if you plan to attend any of the days in person\, please register for the “in-person” option\, as we require these numbers to help us prepare our classroom spaces. \nIf you have questions\, please email library@uoguelph.ca.
URL:https://news.uoguelph.ca/event/faculty-and-staff-writing-retreat-2026-hybrid/2026-05-05/
LOCATION:ONLINE and IN-PERSON\, Ontario\, Canada
GEO:51.253775;-85.323214
END:VEVENT
BEGIN:VEVENT
DTSTART;TZID=America/Toronto:20260506T091500
DTEND;TZID=America/Toronto:20260506T160000
DTSTAMP:20260424T141823
CREATED:20251117T140422Z
LAST-MODIFIED:20251117T140750Z
UID:209016-1778058900-1778083200@news.uoguelph.ca
SUMMARY:Faculty (and Staff) Writing Retreat 2026 - Hybrid
DESCRIPTION:Writing Services  hosts this free\, week-long retreat for University of Guelph’s faculty\, staff\, and visiting/postdoctoral scholars working on scholarly writing projects. More information on the Faculty (and Staff) Writing Retreat – FWR. \n(IMPORTANT: Graduate students should apply for the Dissertation Writing Retreat.) \nDates: Monday to Friday\, May 4 – 8\, 2026 from 9:15 a.m. to 4  p.m. \nAre you trying to find time to work on an article or book chapter? Register now for the 15th annual Faculty Writing Retreat (FWR). \nThe retreat offers an opportunity to build a supportive writing group with colleagues from across the university and to join in group discussions on writing and publishing. Individual consultations are also available. \nParticipants should plan to be available for all five days of the retreat. However\, accommodations can be arranged. \nRegistration will be limited on a first-come\, first-served basis. \nLocation: Hybrid on Zoom and in-person in a quiet\, comfortable space in the McLaughlin Library. \nThere are two registration options\, online and in person. You are welcome to participate both online and in person throughout this week. \nNote: However\, if you plan to attend any of the days in person\, please register for the “in-person” option\, as we require these numbers to help us prepare our classroom spaces. \nIf you have questions\, please email library@uoguelph.ca.
URL:https://news.uoguelph.ca/event/faculty-and-staff-writing-retreat-2026-hybrid/2026-05-06/
LOCATION:ONLINE and IN-PERSON\, Ontario\, Canada
GEO:51.253775;-85.323214
END:VEVENT
BEGIN:VEVENT
DTSTART;TZID=America/Toronto:20260507T091500
DTEND;TZID=America/Toronto:20260507T160000
DTSTAMP:20260424T141823
CREATED:20251117T140422Z
LAST-MODIFIED:20251117T140751Z
UID:209017-1778145300-1778169600@news.uoguelph.ca
SUMMARY:Faculty (and Staff) Writing Retreat 2026 - Hybrid
DESCRIPTION:Writing Services  hosts this free\, week-long retreat for University of Guelph’s faculty\, staff\, and visiting/postdoctoral scholars working on scholarly writing projects. More information on the Faculty (and Staff) Writing Retreat – FWR. \n(IMPORTANT: Graduate students should apply for the Dissertation Writing Retreat.) \nDates: Monday to Friday\, May 4 – 8\, 2026 from 9:15 a.m. to 4  p.m. \nAre you trying to find time to work on an article or book chapter? Register now for the 15th annual Faculty Writing Retreat (FWR). \nThe retreat offers an opportunity to build a supportive writing group with colleagues from across the university and to join in group discussions on writing and publishing. Individual consultations are also available. \nParticipants should plan to be available for all five days of the retreat. However\, accommodations can be arranged. \nRegistration will be limited on a first-come\, first-served basis. \nLocation: Hybrid on Zoom and in-person in a quiet\, comfortable space in the McLaughlin Library. \nThere are two registration options\, online and in person. You are welcome to participate both online and in person throughout this week. \nNote: However\, if you plan to attend any of the days in person\, please register for the “in-person” option\, as we require these numbers to help us prepare our classroom spaces. \nIf you have questions\, please email library@uoguelph.ca.
URL:https://news.uoguelph.ca/event/faculty-and-staff-writing-retreat-2026-hybrid/2026-05-07/
LOCATION:ONLINE and IN-PERSON\, Ontario\, Canada
GEO:51.253775;-85.323214
END:VEVENT
BEGIN:VEVENT
DTSTART;TZID=America/Toronto:20260508T091500
DTEND;TZID=America/Toronto:20260508T160000
DTSTAMP:20260424T141823
CREATED:20251117T140422Z
LAST-MODIFIED:20251117T140752Z
UID:209018-1778231700-1778256000@news.uoguelph.ca
SUMMARY:Faculty (and Staff) Writing Retreat 2026 - Hybrid
DESCRIPTION:Writing Services  hosts this free\, week-long retreat for University of Guelph’s faculty\, staff\, and visiting/postdoctoral scholars working on scholarly writing projects. More information on the Faculty (and Staff) Writing Retreat – FWR. \n(IMPORTANT: Graduate students should apply for the Dissertation Writing Retreat.) \nDates: Monday to Friday\, May 4 – 8\, 2026 from 9:15 a.m. to 4  p.m. \nAre you trying to find time to work on an article or book chapter? Register now for the 15th annual Faculty Writing Retreat (FWR). \nThe retreat offers an opportunity to build a supportive writing group with colleagues from across the university and to join in group discussions on writing and publishing. Individual consultations are also available. \nParticipants should plan to be available for all five days of the retreat. However\, accommodations can be arranged. \nRegistration will be limited on a first-come\, first-served basis. \nLocation: Hybrid on Zoom and in-person in a quiet\, comfortable space in the McLaughlin Library. \nThere are two registration options\, online and in person. You are welcome to participate both online and in person throughout this week. \nNote: However\, if you plan to attend any of the days in person\, please register for the “in-person” option\, as we require these numbers to help us prepare our classroom spaces. \nIf you have questions\, please email library@uoguelph.ca.
URL:https://news.uoguelph.ca/event/faculty-and-staff-writing-retreat-2026-hybrid/2026-05-08/
LOCATION:ONLINE and IN-PERSON\, Ontario\, Canada
GEO:51.253775;-85.323214
END:VEVENT
END:VCALENDAR