BEGIN:VCALENDAR
VERSION:2.0
PRODID:-//U of G News - ECPv6.15.11//NONSGML v1.0//EN
CALSCALE:GREGORIAN
METHOD:PUBLISH
X-WR-CALNAME:U of G News
X-ORIGINAL-URL:https://news.uoguelph.ca
X-WR-CALDESC:Events for U of G News
REFRESH-INTERVAL;VALUE=DURATION:PT1H
X-Robots-Tag:noindex
X-PUBLISHED-TTL:PT1H
BEGIN:VTIMEZONE
TZID:America/Toronto
BEGIN:DAYLIGHT
TZOFFSETFROM:-0500
TZOFFSETTO:-0400
TZNAME:EDT
DTSTART:20180311T070000
END:DAYLIGHT
BEGIN:STANDARD
TZOFFSETFROM:-0400
TZOFFSETTO:-0500
TZNAME:EST
DTSTART:20181104T060000
END:STANDARD
BEGIN:DAYLIGHT
TZOFFSETFROM:-0500
TZOFFSETTO:-0400
TZNAME:EDT
DTSTART:20190310T070000
END:DAYLIGHT
BEGIN:STANDARD
TZOFFSETFROM:-0400
TZOFFSETTO:-0500
TZNAME:EST
DTSTART:20191103T060000
END:STANDARD
BEGIN:DAYLIGHT
TZOFFSETFROM:-0500
TZOFFSETTO:-0400
TZNAME:EDT
DTSTART:20200308T070000
END:DAYLIGHT
BEGIN:STANDARD
TZOFFSETFROM:-0400
TZOFFSETTO:-0500
TZNAME:EST
DTSTART:20201101T060000
END:STANDARD
BEGIN:DAYLIGHT
TZOFFSETFROM:-0500
TZOFFSETTO:-0400
TZNAME:EDT
DTSTART:20210314T070000
END:DAYLIGHT
BEGIN:STANDARD
TZOFFSETFROM:-0400
TZOFFSETTO:-0500
TZNAME:EST
DTSTART:20211107T060000
END:STANDARD
BEGIN:DAYLIGHT
TZOFFSETFROM:-0500
TZOFFSETTO:-0400
TZNAME:EDT
DTSTART:20220313T070000
END:DAYLIGHT
BEGIN:STANDARD
TZOFFSETFROM:-0400
TZOFFSETTO:-0500
TZNAME:EST
DTSTART:20221106T060000
END:STANDARD
END:VTIMEZONE
BEGIN:VEVENT
DTSTART;TZID=America/Toronto:20210225T120000
DTEND;TZID=America/Toronto:20210225T130000
DTSTAMP:20260424T195225
CREATED:20210225T130847Z
LAST-MODIFIED:20210225T130949Z
UID:62103-1614254400-1614258000@news.uoguelph.ca
SUMMARY:ONLINE: 2021 Yoga Speaker Series
DESCRIPTION:Join us for the inaugural Yoga Speaker Series event where we explore the Yoga Philosophy and Practice: Relevance for the Individual and Society in a Contemporary World. Our speakers will share their own long-term practice\, how it affects their lives\, and where they can enlighten us with yoga philosophy and its multi-dimensional application. The aim of this series is to create awareness beyond the Asana/Physical practice and delve deeper into the human psyche. \n\nYoga Philosophy and Practice: Relevance for the Individual and Society in a Contemporary World  \nAnanta Giri: Feb. 25 \nJoin us Feb. 25 at noon to hear Ananta Giri give a presentation on self-development and social transformation through yoga! Use the link https://zoom.us/j/95484128908 to join the event with Meeting ID: 954 8412 8908. \nAnanta Kumar Giri is a Professor at the Madras Institute of Development Studies\, Chennai\, India\, and a Yogi in his life – whether at home\, work\, society or the world. He has taught and done research in many universities in India and abroad. He is an engaging speaker\, and you will gain insights into pathways of yoga and tantra of self-development and social transformations and new movements of breathing together for social healing\, reconciliation and planetary realizations. Make sure to tune in to our first event of the UofG Yoga Speaker Series! \nFind a full schedule and details on our website https://uofgyss.wordpress.com and follow us by clicking social media icons at the bottom of our home page. \n\nThis event is sponsored by the Wellness@Work\, University of Guelph and is hosted by UofG Yoga and Meditation Collective. \nThis Yoga Speaker Series is free to attend and if you can’t make the scheduled time\, a recording will be posted after the event. You can find the full details\, speaker bios\, schedule and recordings on the UofG Yoga Speaker Series 2021 website\, https://uofgyss.wordpress.com. \nFebruary 25 @ 12:00-1:00pm – Ananta Giri\nMarch 11 @ 12:00-1:00pm – Hans Bakker\nMarch 25 @ 12:00-1:00pm – Praveen Saxena\nApril 8 @ 12:00-1:00pm – Hansa Ji Jayadeva\nApril 22 @ 12:00-1:00pm – Panel of all speakers \nJoin the Yoga Speaker Serries (https://zoom.us/j/95484128908) – all sessions will use the same link\nThis event is sponsored by Wellness@Work University of Guelph and is hosted by UofG Yoga and Meditation Collective.
URL:https://news.uoguelph.ca/event/2021-yoga-speaker-series/
LOCATION:Ontario\, Canada
CATEGORIES:Intranet Events
ATTACH;FMTTYPE=image/png:https://news.uoguelph.ca/wp-content/uploads/2021/02/YSS-Introduction-e1614258579210.png
GEO:51.253775;-85.323214
END:VEVENT
BEGIN:VEVENT
DTSTART;TZID=America/Toronto:20200205T100000
DTEND;TZID=America/Toronto:20200205T153000
DTSTAMP:20260424T195225
CREATED:20200113T182001Z
LAST-MODIFIED:20200115T160902Z
UID:49867-1580896800-1580916600@news.uoguelph.ca
SUMMARY:P4E Job Fair 2020
DESCRIPTION:Students from all disciplines and across all semester levels are welcome to network with over 200 employers from diverse sectors at the P4E (Partners4Employment) Job Fair. \nYou don’t want to miss this job fair…it’s the largest of its kind in the country! \nFree admission with student or alumni ID from sponsoring schools. Free shuttle buses to and from RIM Park\, leaving from the front of the UC every 30 minutes (bus schedule). Free professional digital head shot photos. \nBring your student card. \nVisit the 2020 P4E Job Fair website for a list of ways to prepare for the fair and to see a list of registered organizations. Find out more about each company and the types of opportunities they are hiring for.
URL:https://news.uoguelph.ca/event/p4e-job-fair-2020/
LOCATION:Ontario\, Canada
CATEGORIES:Homepage,Intranet Events
ATTACH;FMTTYPE=image/png:https://news.uoguelph.ca/wp-content/uploads/2020/01/P4E-Job-Fair-Banner-FINAL.png
GEO:51.253775;-85.323214
END:VEVENT
BEGIN:VEVENT
DTSTART;VALUE=DATE:20190520
DTEND;VALUE=DATE:20190523
DTSTAMP:20260424T195225
CREATED:20190502T170530Z
LAST-MODIFIED:20190502T170530Z
UID:43406-1558310400-1558569599@news.uoguelph.ca
SUMMARY:Pint of Science Comes to Guelph
DESCRIPTION:Pint of Science tickets are now available in twenty-five cities spanning Canada – including\, for the first time ever\, Guelph. \nPint of Science Guelph will be held over three nights (May 20\, 21 and 22) at six different venues in Guelph\, and will feature 12 different speakers. Each venue will host two speakers with talks ranging from bridging the digital divide to food fraud to the science of bubbles and beer. \nThere will be trivia\, prizes and lots of opportunity to chat with University of Guelph researchers to learn more about what they do and why they do it. \nFor more information\, and to order your FREE event tickets\, visit https://pintofscience.ca/events/guelph-on
URL:https://news.uoguelph.ca/event/pint-of-science-comes-to-guelph/
LOCATION:Ontario\, Canada
CATEGORIES:Homepage,Intranet Events
ATTACH;FMTTYPE=image/png:https://news.uoguelph.ca/wp-content/uploads/2019/05/PoS-2019.png
GEO:51.253775;-85.323214
END:VEVENT
END:VCALENDAR