BEGIN:VCALENDAR
VERSION:2.0
PRODID:-//U of G News - ECPv6.15.11//NONSGML v1.0//EN
CALSCALE:GREGORIAN
METHOD:PUBLISH
X-WR-CALNAME:U of G News
X-ORIGINAL-URL:https://news.uoguelph.ca
X-WR-CALDESC:Events for U of G News
REFRESH-INTERVAL;VALUE=DURATION:PT1H
X-Robots-Tag:noindex
X-PUBLISHED-TTL:PT1H
BEGIN:VTIMEZONE
TZID:America/Toronto
BEGIN:DAYLIGHT
TZOFFSETFROM:-0500
TZOFFSETTO:-0400
TZNAME:EDT
DTSTART:20200308T070000
END:DAYLIGHT
BEGIN:STANDARD
TZOFFSETFROM:-0400
TZOFFSETTO:-0500
TZNAME:EST
DTSTART:20201101T060000
END:STANDARD
BEGIN:DAYLIGHT
TZOFFSETFROM:-0500
TZOFFSETTO:-0400
TZNAME:EDT
DTSTART:20210314T070000
END:DAYLIGHT
BEGIN:STANDARD
TZOFFSETFROM:-0400
TZOFFSETTO:-0500
TZNAME:EST
DTSTART:20211107T060000
END:STANDARD
BEGIN:DAYLIGHT
TZOFFSETFROM:-0500
TZOFFSETTO:-0400
TZNAME:EDT
DTSTART:20220313T070000
END:DAYLIGHT
BEGIN:STANDARD
TZOFFSETFROM:-0400
TZOFFSETTO:-0500
TZNAME:EST
DTSTART:20221106T060000
END:STANDARD
END:VTIMEZONE
BEGIN:VEVENT
DTSTART;TZID=America/Toronto:20211201T110000
DTEND;TZID=America/Toronto:20211201T121500
DTSTAMP:20260420T010741
CREATED:20211026T142337Z
LAST-MODIFIED:20211026T142337Z
UID:70597-1638356400-1638360900@news.uoguelph.ca
SUMMARY:ONLINE: An Integrated Health Review - Improving Health Access for International Students
DESCRIPTION:This webinar will present a longitudinal research study focusing on international students on post-secondary campuses in Canada. Students receive a full clinical check-up followed by structured teaching on selected topics with a registered nurse. Goals include improving medical knowledge\, tracking incidence of common medical conditions\, and tracking rates of various interventions. \nSpeakers: \n\nDr. Shivajan Sivapalan\, M.D.\, C.C.F.P\nCampus Clinic Physician for the Campus Health and Wellness Centre for Durham College and Ontario Tech University\nDirector of Clinical Operations at SAAAC Autism Centre\nDr. Yasir Khan\, M.D.\, C.C.F.P.\nCampus Clinic Physician for the Campus Health and Wellness Centre for Durham College and Ontario Tech University\nAdjunct Lecturer with the University of Toronto\nMasters Student in the Healthcare Quality Program at Queen’s University\n\nLearn more online. \nPresented by: Canada India Research Centre for Learning and Engagement (CIRCLE)
URL:https://news.uoguelph.ca/event/online-an-integrated-health-review-improving-health-access-for-international-students/
LOCATION:ONLINE\, Ontario\, Canada
CATEGORIES:Homepage,Intranet Events
ATTACH;FMTTYPE=image/png:https://news.uoguelph.ca/wp-content/uploads/2021/10/Sivapalan_Khan_486x258.png
GEO:51.253775;-85.323214
END:VEVENT
BEGIN:VEVENT
DTSTART;TZID=America/Toronto:20211201T130000
DTEND;TZID=America/Toronto:20211201T140000
DTSTAMP:20260420T010741
CREATED:20211118T134033Z
LAST-MODIFIED:20211118T134033Z
UID:71552-1638363600-1638367200@news.uoguelph.ca
SUMMARY:ONLINE: Project SOY Plus Information Session
DESCRIPTION:Learn more about Project SOY Plus! Join the student innovation challenge and create novel plant-based products. \nThis information session will introduce you to the competition\, key dates and deadlines and the benefits of taking part in Project SOY Plus. \nYou will then have the opportunity to hear from a past Project SOY Plus participant who has founded a start-up company based on their project idea and from a representative of the John F. Wood Centre for Business and Student Enterprise before having the opportunity to have your questions answered. \nLearn more online.
URL:https://news.uoguelph.ca/event/online-project-soy-plus-information-session/
LOCATION:ONLINE\, Ontario\, Canada
CATEGORIES:Intranet Events
ATTACH;FMTTYPE=image/jpeg:https://news.uoguelph.ca/wp-content/uploads/2021/11/PSP-e1637242827914.jpg
GEO:51.253775;-85.323214
END:VEVENT
BEGIN:VEVENT
DTSTART;TZID=America/Toronto:20211201T130000
DTEND;TZID=America/Toronto:20211201T140000
DTSTAMP:20260420T010741
CREATED:20211126T195954Z
LAST-MODIFIED:20211126T195954Z
UID:71889-1638363600-1638367200@news.uoguelph.ca
SUMMARY:ONLINE: Project Soy PLUS Information Session
DESCRIPTION:This information session will introduce you to the Project SOY Plus competition\, key dates and deadlines and the benefits of taking part. \nYou will then have the opportunity to hear from a past Project SOY Plus participant who has founded a start-up company based on their project idea and from a representative of the John F. Wood Centre for Business and Student Enterprise before having the opportunity to have your questions answered. \nLearn more online.
URL:https://news.uoguelph.ca/event/online-project-soy-plus-information-session-2/
LOCATION:ONLINE\, Ontario\, Canada
CATEGORIES:Intranet Events
ATTACH;FMTTYPE=image/png:https://news.uoguelph.ca/wp-content/uploads/2021/11/MicrosoftTeams-image-7-e1637956772577.png
GEO:51.253775;-85.323214
END:VEVENT
BEGIN:VEVENT
DTSTART;TZID=America/Toronto:20211202T103000
DTEND;TZID=America/Toronto:20211202T120000
DTSTAMP:20260420T010741
CREATED:20211115T194024Z
LAST-MODIFIED:20211119T182909Z
UID:71294-1638441000-1638446400@news.uoguelph.ca
SUMMARY:ONLINE: Introduction to the Professional and Career Development Record (PCDR)
DESCRIPTION:The Professional and Career Development Record (PCDR) is a tool built into ExperienceGuelph.ca that formally recognizes a student’s involvement in on- and off-campus professional and career development activities\, most notably experiential learning. This could include things like leadership skills developed in co-operative education or on-campus employment\, communication skills learned in a course\, and more! Learn what the PCDR can do for you! \nBy the end of this workshop\, participants will be able to: \n\nExplain the purpose and benefits of the PCDR.\nOutline the critical components of a validated experience.\nUse the Experience Guelph catalogue to search for validated opportunities.\nLocate resources on the PCDR Online Resource Centre.\n\nLearn more online.
URL:https://news.uoguelph.ca/event/online-introduction-to-the-professional-and-career-development-record-pcdr/
LOCATION:ONLINE\, Ontario\, Canada
CATEGORIES:Intranet Events
GEO:51.253775;-85.323214
END:VEVENT
BEGIN:VEVENT
DTSTART;TZID=America/Toronto:20211202T190000
DTEND;TZID=America/Toronto:20211202T200000
DTSTAMP:20260420T010741
CREATED:20211126T195609Z
LAST-MODIFIED:20211126T195609Z
UID:71891-1638471600-1638475200@news.uoguelph.ca
SUMMARY:Online Baking Event
DESCRIPTION:Join the John F. Wood Centre for Business and Student Enterprise on Dec. 2 for an evening of delicious baking. We will be making chocolate chip blondies\, recipe courtesy of Well Baked Box! \nOnce you purchase your ticket\, you will receive an email with the Zoom link for the event. Note that you must be able to pick up your baking kit on the University of Guelph campus between Nov. 30 and Dec. 2. \nLearn more online.
URL:https://news.uoguelph.ca/event/online-baking-event/
LOCATION:ONLINE\, Ontario\, Canada
CATEGORIES:Intranet Events
GEO:51.253775;-85.323214
END:VEVENT
BEGIN:VEVENT
DTSTART;TZID=America/Toronto:20211206T090000
DTEND;TZID=America/Toronto:20211206T090000
DTSTAMP:20260420T010741
CREATED:20211201T211431Z
LAST-MODIFIED:20211202T150848Z
UID:72031-1638781200-1638781200@news.uoguelph.ca
SUMMARY:ONLINE: Public Presentation for Vice-Provost and Chief Academic Officer\, University of Guelph-Humber
DESCRIPTION:Academic Officer\, University of Guelph-Humber has been established as follows: \nCandidate #1:\nMonday\, December 6\, 2021 – 9 a.m. to 10 a.m. – WebEx Meeting Link \nCandidate #2:\nTuesday\, December 7\, 2021 – 9 a.m. to 10 a.m. – WebEx Meeting Link \nMeetings will be scheduled with the University of Guelph-Humber Program Heads\, University of Guelph-Humber Staff and Students. The public presentation and question sessions will be video recorded and made available on the Decanal & Other Academic Searches website\, as well as\, on the Humber website. A central login ID is required to access this information. \nThe committee invites written comments as part of this search; these should be directed by email to provost@uoguelph.ca by December 16\, 2021. Your comments will be dealt with in strict confidence.
URL:https://news.uoguelph.ca/event/online-public-presentation-for-vice-provost-and-chief-academic-officer-university-of-guelph-humber/2021-12-06/
LOCATION:ImprovLab\, Guelph\, Ontario\, Canada
CATEGORIES:Intranet Events
GEO:51.253775;-85.323214
END:VEVENT
BEGIN:VEVENT
DTSTART;TZID=America/Toronto:20211206T134500
DTEND;TZID=America/Toronto:20211206T143000
DTSTAMP:20260420T010741
CREATED:20211204T001358Z
LAST-MODIFIED:20211204T002451Z
UID:72338-1638798300-1638801000@news.uoguelph.ca
SUMMARY:National Day of Remembrance and Action on Violence Against Women
DESCRIPTION:Remember. Reflect. Respond. \nThe School of Engineering will host an in-person observance of the National Day of Remembrance and Action on Violence Against Women. \nCOVID-19 protocols will be in effect\, including checking at the door for proof of vaccination\, ID and the COVID-19 screening form confirmation email as well as collecting contact information for contact tracing. Masks and physical distancing are required. \nWhite ribbons that have come to symbolize the event will be available. \nThe event is open only to the U of G community and there is a capacity limit.
URL:https://news.uoguelph.ca/event/national-day-of-remembrance-and-action-on-violence-against-women/
LOCATION:Thornbrough Building\, 80 South Ring Road East\, Guelph\, Ontario\, Canada
CATEGORIES:Intranet Events
GEO:43.5306249;-80.2250468
X-APPLE-STRUCTURED-LOCATION;VALUE=URI;X-ADDRESS=Thornbrough Building 80 South Ring Road East Guelph Ontario Canada;X-APPLE-RADIUS=500;X-TITLE=80 South Ring Road East:geo:-80.2250468,43.5306249
END:VEVENT
BEGIN:VEVENT
DTSTART;TZID=America/Toronto:20211210T110000
DTEND;TZID=America/Toronto:20211210T113000
DTSTAMP:20260420T010741
CREATED:20211123T174710Z
LAST-MODIFIED:20211123T174710Z
UID:71729-1639134000-1639135800@news.uoguelph.ca
SUMMARY:ONLINE: Launch Event for U of G IT Strategic Plan
DESCRIPTION:Please join us for the exciting launch of Experience Reimagined: The U of G IT Strategic Plan. \nDuring this 30-minute event\, you will learn about our path toward digital innovation. You will see some inspirational videos that provide a glimpse into the future user experience at U of G: modern\, seamless and intuitive. \nWe encourage you to visit the IT Strategy site prior to the event at uoguel.ph/ITstrategy. Please note you will need to log in with your U of G credentials. \nJoin online.
URL:https://news.uoguelph.ca/event/online-launch-event-for-u-of-g-it-strategic-plan/
LOCATION:ONLINE\, Ontario\, Canada
CATEGORIES:Intranet Events
ATTACH;FMTTYPE=image/jpeg:https://news.uoguelph.ca/wp-content/uploads/2021/11/IT-Strategy_launch_IG-1-e1637689610654.jpg
GEO:51.253775;-85.323214
END:VEVENT
BEGIN:VEVENT
DTSTART;TZID=America/Toronto:20211215T120000
DTEND;TZID=America/Toronto:20211215T133000
DTSTAMP:20260420T010741
CREATED:20211215T201806Z
LAST-MODIFIED:20211215T201806Z
UID:72657-1639569600-1639575000@news.uoguelph.ca
SUMMARY:Wednesday Walks in the Arboretum
DESCRIPTION:Nature is known to be unpredictable and unexpected\, so what awaits us today? Michelle\, the Arboretum’s Naturalist Intern\, will be leading hour-long walks every Wednesday. Walks start at The Arboretum kiosk at 12:15 p.m. For further information contact Michelle at beltranm@uoguelph.ca or 519-824-4120 Ext. 53615. The hike may be cancelled if there is inclement weather. \nWe ask that walk participants wear a mask throughout the walk\, show proof of vaccination\, and complete the University’s COVID screening form.
URL:https://news.uoguelph.ca/event/wednesday-walks-in-the-arboretum-3/
LOCATION:Arboretum\, 250 Arboretum Road\, Guelph\, N1G 2W1
CATEGORIES:Intranet Events
GEO:43.5409023;-80.2151772
X-APPLE-STRUCTURED-LOCATION;VALUE=URI;X-ADDRESS=Arboretum 250 Arboretum Road Guelph N1G 2W1;X-APPLE-RADIUS=500;X-TITLE=250 Arboretum Road:geo:-80.2151772,43.5409023
END:VEVENT
BEGIN:VEVENT
DTSTART;TZID=America/Toronto:20211222T120000
DTEND;TZID=America/Toronto:20211222T130000
DTSTAMP:20260420T010741
CREATED:20211215T201715Z
LAST-MODIFIED:20211215T201715Z
UID:72658-1640174400-1640178000@news.uoguelph.ca
SUMMARY:Wednesday Walks in the Arboretum
DESCRIPTION:Nature is known to be unpredictable and unexpected\, so what awaits us today? Michelle\, the Arboretum’s Naturalist Intern\, will be leading hour-long walks every Wednesday. Walks start at The Arboretum kiosk at 12:15 p.m. For further information contact Michelle at beltranm@uoguelph.ca or 519-824-4120 Ext. 53615. The hike may be cancelled if there is inclement weather. \nWe ask that walk participants wear a mask throughout the walk\, show proof of vaccination\, and complete the University’s COVID screening form.
URL:https://news.uoguelph.ca/event/wednesday-walks-in-the-arboretum-2/
LOCATION:Arboretum\, 250 Arboretum Road\, Guelph\, N1G 2W1
CATEGORIES:Intranet Events
GEO:43.5409023;-80.2151772
X-APPLE-STRUCTURED-LOCATION;VALUE=URI;X-ADDRESS=Arboretum 250 Arboretum Road Guelph N1G 2W1;X-APPLE-RADIUS=500;X-TITLE=250 Arboretum Road:geo:-80.2151772,43.5409023
END:VEVENT
END:VCALENDAR