BEGIN:VCALENDAR
VERSION:2.0
PRODID:-//U of G News - ECPv6.15.11//NONSGML v1.0//EN
CALSCALE:GREGORIAN
METHOD:PUBLISH
X-ORIGINAL-URL:https://news.uoguelph.ca
X-WR-CALDESC:Events for U of G News
REFRESH-INTERVAL;VALUE=DURATION:PT1H
X-Robots-Tag:noindex
X-PUBLISHED-TTL:PT1H
BEGIN:VTIMEZONE
TZID:America/Toronto
BEGIN:DAYLIGHT
TZOFFSETFROM:-0500
TZOFFSETTO:-0400
TZNAME:EDT
DTSTART:20210314T070000
END:DAYLIGHT
BEGIN:STANDARD
TZOFFSETFROM:-0400
TZOFFSETTO:-0500
TZNAME:EST
DTSTART:20211107T060000
END:STANDARD
BEGIN:DAYLIGHT
TZOFFSETFROM:-0500
TZOFFSETTO:-0400
TZNAME:EDT
DTSTART:20220313T070000
END:DAYLIGHT
BEGIN:STANDARD
TZOFFSETFROM:-0400
TZOFFSETTO:-0500
TZNAME:EST
DTSTART:20221106T060000
END:STANDARD
BEGIN:DAYLIGHT
TZOFFSETFROM:-0500
TZOFFSETTO:-0400
TZNAME:EDT
DTSTART:20230312T070000
END:DAYLIGHT
BEGIN:STANDARD
TZOFFSETFROM:-0400
TZOFFSETTO:-0500
TZNAME:EST
DTSTART:20231105T060000
END:STANDARD
END:VTIMEZONE
BEGIN:VEVENT
DTSTART;TZID=America/Toronto:20220317T130000
DTEND;TZID=America/Toronto:20220317T160000
DTSTAMP:20260421T073947
CREATED:20220315T190646Z
LAST-MODIFIED:20220315T190646Z
UID:77313-1647522000-1647532800@news.uoguelph.ca
SUMMARY:Campus Fresh Food Market
DESCRIPTION:This on-campus market offers fresh fruit and vegetables for the U of G campus\, priced on a sliding-scale. The reduced end is as affordable as we can offer it (30-50% off of retail)\, and the other end is similar to grocery store pricing. Choose what you’d like to pay in that range — no questions asked! Please note that this is a CASHLESS market and we ask customers to bring their own reusable bags.
URL:https://news.uoguelph.ca/event/campus-fresh-food-market/2022-03-17/
LOCATION:Canada
CATEGORIES:Intranet Events
ATTACH;FMTTYPE=image/png:https://news.uoguelph.ca/wp-content/uploads/2022/03/Campus-Food-Market-Poster-8.5-×-11-in-1-e1647371196299.png
END:VEVENT
END:VCALENDAR