BEGIN:VCALENDAR
VERSION:2.0
PRODID:-//U of G News - ECPv6.15.11//NONSGML v1.0//EN
CALSCALE:GREGORIAN
METHOD:PUBLISH
X-WR-CALNAME:U of G News
X-ORIGINAL-URL:https://news.uoguelph.ca
X-WR-CALDESC:Events for U of G News
REFRESH-INTERVAL;VALUE=DURATION:PT1H
X-Robots-Tag:noindex
X-PUBLISHED-TTL:PT1H
BEGIN:VTIMEZONE
TZID:America/Toronto
BEGIN:DAYLIGHT
TZOFFSETFROM:-0500
TZOFFSETTO:-0400
TZNAME:EDT
DTSTART:20210314T070000
END:DAYLIGHT
BEGIN:STANDARD
TZOFFSETFROM:-0400
TZOFFSETTO:-0500
TZNAME:EST
DTSTART:20211107T060000
END:STANDARD
BEGIN:DAYLIGHT
TZOFFSETFROM:-0500
TZOFFSETTO:-0400
TZNAME:EDT
DTSTART:20220313T070000
END:DAYLIGHT
BEGIN:STANDARD
TZOFFSETFROM:-0400
TZOFFSETTO:-0500
TZNAME:EST
DTSTART:20221106T060000
END:STANDARD
BEGIN:DAYLIGHT
TZOFFSETFROM:-0500
TZOFFSETTO:-0400
TZNAME:EDT
DTSTART:20230312T070000
END:DAYLIGHT
BEGIN:STANDARD
TZOFFSETFROM:-0400
TZOFFSETTO:-0500
TZNAME:EST
DTSTART:20231105T060000
END:STANDARD
END:VTIMEZONE
BEGIN:VEVENT
DTSTART;TZID=America/Toronto:20220311T130000
DTEND;TZID=America/Toronto:20220311T140000
DTSTAMP:20260421T073657
CREATED:20220307T162039Z
LAST-MODIFIED:20220307T162041Z
UID:76701-1647003600-1647007200@news.uoguelph.ca
SUMMARY:ONLINE: China - Its Rise and Consequences
DESCRIPTION:The Olympics returned to a new and emboldened China. What should we learn from China’s transformation? \nFeaturing: \n\nMichael Szonyi – Director of the Fairbank Center for Chinese Studies and Frank Wen-Hsuing Wu Memorial Professor of Chinese History at Harvard University\nTheresa Lee – Associate Professor\, Department of Political Science\, University of Guelph\nNorman Smith – Professor\, Department of History\, University of Guelph\n\nVirtual EventRegister at uoguel.ph/pols-mar11 \nHosted by the College of Social and Applied Human Sciences and the Department of Political Science
URL:https://news.uoguelph.ca/event/online-china-its-rise-and-consequences/
CATEGORIES:Homepage,Intranet Events
ATTACH;FMTTYPE=image/jpeg:https://news.uoguelph.ca/wp-content/uploads/2022/03/2022-03-11-Poster-China-Its-Rise_-e1646669982705.jpg
END:VEVENT
END:VCALENDAR