BEGIN:VCALENDAR
VERSION:2.0
PRODID:-//U of G News - ECPv6.15.11//NONSGML v1.0//EN
CALSCALE:GREGORIAN
METHOD:PUBLISH
X-WR-CALNAME:U of G News
X-ORIGINAL-URL:https://news.uoguelph.ca
X-WR-CALDESC:Events for U of G News
REFRESH-INTERVAL;VALUE=DURATION:PT1H
X-Robots-Tag:noindex
X-PUBLISHED-TTL:PT1H
BEGIN:VTIMEZONE
TZID:America/Toronto
BEGIN:DAYLIGHT
TZOFFSETFROM:-0500
TZOFFSETTO:-0400
TZNAME:EDT
DTSTART:20210314T070000
END:DAYLIGHT
BEGIN:STANDARD
TZOFFSETFROM:-0400
TZOFFSETTO:-0500
TZNAME:EST
DTSTART:20211107T060000
END:STANDARD
BEGIN:DAYLIGHT
TZOFFSETFROM:-0500
TZOFFSETTO:-0400
TZNAME:EDT
DTSTART:20220313T070000
END:DAYLIGHT
BEGIN:STANDARD
TZOFFSETFROM:-0400
TZOFFSETTO:-0500
TZNAME:EST
DTSTART:20221106T060000
END:STANDARD
BEGIN:DAYLIGHT
TZOFFSETFROM:-0500
TZOFFSETTO:-0400
TZNAME:EDT
DTSTART:20230312T070000
END:DAYLIGHT
BEGIN:STANDARD
TZOFFSETFROM:-0400
TZOFFSETTO:-0500
TZNAME:EST
DTSTART:20231105T060000
END:STANDARD
END:VTIMEZONE
BEGIN:VEVENT
DTSTART;TZID=America/Toronto:20220310T090000
DTEND;TZID=America/Toronto:20220310T100000
DTSTAMP:20260421T160350
CREATED:20220225T205121Z
LAST-MODIFIED:20220225T205121Z
UID:76280-1646902800-1646906400@news.uoguelph.ca
SUMMARY:ONLINE: Arboretum Workshop - Insect Series
DESCRIPTION:The Arboretum is hosting a series of online workshops about insects. Join us to learn more about butterflies\, moths\, dragonflies\, damselflies and aquatic insects. \nFee: $10 (plus HST) per session. \nIntroduction to Insects – Thursday\, March 10 \nInsects are one of the largest and most diverse groups of organisms on the entire planet! From tiny\, determined ants to big\, beautiful moths\, these creatures are amazing and often under-appreciated. Let’s take a peek at the life of insects and how they fit into our world! \nDragonflies and Damselflies – Thursday\, March 17 \nBeware of dragons! Summertime is the time to keep your eyes to the skies for dragonflies and damselflies zipping around… But there’s more to these incredible insects than just fast flying. Join us in learning more about the voracious predators patrolling our skies! \nButterflies and Moths – Thursday\, March 24 \nWho doesn’t love colourful butterflies? Moths just might surprise you in how beautiful and incredible they can be\, too. Join us in learning more about the biology of butterflies and moths\, and discover some of the amazing species you might see around! \nAquatic Insects – Thursday\, March 31 \nIt’s a whole new world under the water surface but the many critters that live there are well suited for the job! Water scorpions and whirligig beetles are just a few of the insects you might find in your local pond or river. Join us in learning more about these wacky\, aquatic insects!
URL:https://news.uoguelph.ca/event/online-arboretum-workshop-insect-series/2022-03-10/
LOCATION:ONLINE\, Ontario\, Canada
CATEGORIES:Intranet Events
ATTACH;FMTTYPE=image/jpeg:https://news.uoguelph.ca/wp-content/uploads/2022/02/Virtual-Insects-Collage.jpg
GEO:51.253775;-85.323214
END:VEVENT
BEGIN:VEVENT
DTSTART;TZID=America/Toronto:20220310T090000
DTEND;TZID=America/Toronto:20220310T100000
DTSTAMP:20260421T160350
CREATED:20220303T175942Z
LAST-MODIFIED:20220307T170204Z
UID:76616-1646902800-1646906400@news.uoguelph.ca
SUMMARY:ONLINE: Arboretum Workshop - Virtual Insect Series
DESCRIPTION:The Arboretum is hosting a series of online workshops about insects. Join us to learn more about butterflies\, moths\, dragonflies\, damselflies and aquatic insects. \nFee: $10 (plus HST) per session. \nLearn more online.
URL:https://news.uoguelph.ca/event/virtual-insect-series/
LOCATION:ONLINE\, Ontario\, Canada
CATEGORIES:Intranet Events
GEO:51.253775;-85.323214
END:VEVENT
BEGIN:VEVENT
DTSTART;TZID=America/Toronto:20220310T130000
DTEND;TZID=America/Toronto:20220310T143000
DTSTAMP:20260421T160350
CREATED:20220307T165550Z
LAST-MODIFIED:20220307T165550Z
UID:76655-1646917200-1646922600@news.uoguelph.ca
SUMMARY:Thriving in Action: Making Connections at University
DESCRIPTION:Feeling a sense of connection is directly linked not only with positive wellbeing but with academic success. Connectedness helps reduce major risk factors that can be barriers to scholastic thriving. This workshop will support the development of connection with ourselves\, with friends and family\, and with our campus. \nPending public health guidelines\, this workshop may move online. \nRegistrants will be notified. Registration is required: https://cal.lib.uoguelph.ca/event/3663901 \nThis workshop is offered by Learning Services and Student Wellness.
URL:https://news.uoguelph.ca/event/thriving-in-action-making-connections-at-university/
LOCATION:McLaughlin Library\, 480 Gordon Street\, Guelph\, Ontario\, Canada
CATEGORIES:Intranet Events
GEO:43.5314787;-80.2277745
X-APPLE-STRUCTURED-LOCATION;VALUE=URI;X-ADDRESS=McLaughlin Library 480 Gordon Street Guelph Ontario Canada;X-APPLE-RADIUS=500;X-TITLE=480 Gordon Street:geo:-80.2277745,43.5314787
END:VEVENT
END:VCALENDAR