BEGIN:VCALENDAR
VERSION:2.0
PRODID:-//U of G News - ECPv6.15.11//NONSGML v1.0//EN
CALSCALE:GREGORIAN
METHOD:PUBLISH
X-ORIGINAL-URL:https://news.uoguelph.ca
X-WR-CALDESC:Events for U of G News
REFRESH-INTERVAL;VALUE=DURATION:PT1H
X-Robots-Tag:noindex
X-PUBLISHED-TTL:PT1H
BEGIN:VTIMEZONE
TZID:America/Toronto
BEGIN:DAYLIGHT
TZOFFSETFROM:-0500
TZOFFSETTO:-0400
TZNAME:EDT
DTSTART:20200308T070000
END:DAYLIGHT
BEGIN:STANDARD
TZOFFSETFROM:-0400
TZOFFSETTO:-0500
TZNAME:EST
DTSTART:20201101T060000
END:STANDARD
BEGIN:DAYLIGHT
TZOFFSETFROM:-0500
TZOFFSETTO:-0400
TZNAME:EDT
DTSTART:20210314T070000
END:DAYLIGHT
BEGIN:STANDARD
TZOFFSETFROM:-0400
TZOFFSETTO:-0500
TZNAME:EST
DTSTART:20211107T060000
END:STANDARD
BEGIN:DAYLIGHT
TZOFFSETFROM:-0500
TZOFFSETTO:-0400
TZNAME:EDT
DTSTART:20220313T070000
END:DAYLIGHT
BEGIN:STANDARD
TZOFFSETFROM:-0400
TZOFFSETTO:-0500
TZNAME:EST
DTSTART:20221106T060000
END:STANDARD
END:VTIMEZONE
BEGIN:VEVENT
DTSTART;TZID=America/Toronto:20211116T103000
DTEND;TZID=America/Toronto:20211116T110000
DTSTAMP:20260421T073942
CREATED:20211108T182731Z
LAST-MODIFIED:20211108T182731Z
UID:71104-1637058600-1637060400@news.uoguelph.ca
SUMMARY:Louis Riel Day - Métis Flag Raising
DESCRIPTION:Join us in front of the University Centre at 10:30 a.m. for short remarks and the raising of the Métis flag in recognition of Louis Riel Day. Although Louis Riel Day marks the execution of Louis Riel\, commemorating one of the great tragedies in Canadian history\, it is also a day to celebrate Métis culture\, recognize the many contributions of the Métis to Canada\, and to highlight the struggles that many Métis continue to face. \nAll students\, staff and faculty are welcome.
URL:https://news.uoguelph.ca/event/louis-riel-day-metis-flag-raising/
LOCATION:University Centre\, 150 Research Ln\, Guelph\, Ontario\, N1G2W1\, Canada
CATEGORIES:Intranet Events
GEO:43.5324925;-80.224618
X-APPLE-STRUCTURED-LOCATION;VALUE=URI;X-ADDRESS=University Centre 150 Research Ln Guelph Ontario N1G2W1 Canada;X-APPLE-RADIUS=500;X-TITLE=150 Research Ln:geo:-80.224618,43.5324925
END:VEVENT
BEGIN:VEVENT
DTSTART;TZID=America/Toronto:20211116T110000
DTEND;TZID=America/Toronto:20211116T113000
DTSTAMP:20260421T073942
CREATED:20211102T154349Z
LAST-MODIFIED:20211102T154349Z
UID:70791-1637060400-1637062200@news.uoguelph.ca
SUMMARY:ONLINE: Financial Literacy Month - Financial Literacy Webinar
DESCRIPTION:November is Financial Literacy Month! #FLM2021 is all about providing you with the financial tips and resources to better manage your money and feel confident in your future. \nHosted by Student Financial Services\, this webinar covers topics such as budgeting\, lowering your expenses\, interest and credit cards. Additional time will be provided at the end of the webinar for a Q&A session. \nBy attending this webinar\, you will have the opportunity to win great prizes\, including U of G swag\, and the grand prize of $500 towards your Winter 2022 tuition and fees. For additional entries\, attend our other webinar about cooking on a budget at 2 p.m. on Nov. 16\, and test your financial knowledge in the Financial Literacy Quiz that is posted on the Student Financial Services website. \nVisit https://uoguel.ph/flm2021 to complete the quiz and access a link to the webinar on the day of the event.
URL:https://news.uoguelph.ca/event/online-financial-literacy-month-financial-literacy-webinar/
LOCATION:ONLINE\, Ontario\, Canada
CATEGORIES:Intranet Events
GEO:51.253775;-85.323214
END:VEVENT
BEGIN:VEVENT
DTSTART;TZID=America/Toronto:20211116T130000
DTEND;TZID=America/Toronto:20211116T143000
DTSTAMP:20260421T073942
CREATED:20211110T153534Z
LAST-MODIFIED:20211110T153534Z
UID:71151-1637067600-1637073000@news.uoguelph.ca
SUMMARY:ONLINE: Digital Storytelling for Research Communication
DESCRIPTION:This brief workshop will introduce participants to the practice of digital storytelling for research communication. Our experienced facilitators will take a deep dive into the components\, elements and benefits of digital storytelling\, and will also lead activities to demonstrate the application of these principles. This introductory workshop will prompt participants to begin conceptualizing an idea for communicating their own research through digital storytelling methods. \nThis workshop is offered as part of the Skills for Research Impact series.
URL:https://news.uoguelph.ca/event/online-digital-storytelling-for-research-communication/
LOCATION:ONLINE\, Ontario\, Canada
CATEGORIES:Intranet Events
GEO:51.253775;-85.323214
END:VEVENT
BEGIN:VEVENT
DTSTART;TZID=America/Toronto:20211116T140000
DTEND;TZID=America/Toronto:20211116T143000
DTSTAMP:20260421T073942
CREATED:20211102T154243Z
LAST-MODIFIED:20211102T154243Z
UID:70792-1637071200-1637073000@news.uoguelph.ca
SUMMARY:ONLINE: Financial Literacy Month - Cooking on a Budget Webinar
DESCRIPTION:November is Financial Literacy Month! #FLM2021 is all about providing you with the financial tips and resources to better manage your money and feel confident in your future. \nHosted by Student Financial Services\, this webinar includes a cooking demonstration by a U of G chef as well as money-saving tips when it comes to food and grocery purchases. \nBy attending this webinar\, you will have the opportunity to win great prizes\, including U of G swag\, and the grand prize of $500 towards your winter 2022 tuition and fees. For additional entries to the prize draw\, test your financial knowledge in the Financial Literacy Quiz that is posted on the Student Financial Services website. \nVisit https://uoguel.ph/flm2021 to complete the quiz and access a link to the webinar on the day of the event.
URL:https://news.uoguelph.ca/event/online-financial-literacy-month-cooking-on-a-budget-webinar/
LOCATION:ONLINE\, Ontario\, Canada
CATEGORIES:Intranet Events
GEO:51.253775;-85.323214
END:VEVENT
BEGIN:VEVENT
DTSTART;TZID=America/Toronto:20211116T173000
DTEND;TZID=America/Toronto:20211116T183000
DTSTAMP:20260421T073942
CREATED:20211104T163428Z
LAST-MODIFIED:20211104T163428Z
UID:70968-1637083800-1637087400@news.uoguelph.ca
SUMMARY:ONLINE: Co-op In-Course Admissions Panel for BIPOC Students
DESCRIPTION:Are you a student in first year interested in co-op? And do you identify as Black\, Indigenous or as a Person of  Colour (BIPOC)? If so\, this event is for you! \nThe Experiential Learning Hub will be hosting a virtual BIPOC Co-op In-Course Admissions Panel to share information about how to apply for in-course admission into a co-op program. Current and previous BIPOC co-op students will share their experiences on the panel. You will have the opportunity to ask questions about the co-op in-course admissions process\, the panelists experience in co-op\, and anything else that you want to know about co-op.
URL:https://news.uoguelph.ca/event/online-co-op-in-course-admissions-panel-for-bipoc-students/
LOCATION:ONLINE\, Ontario\, Canada
CATEGORIES:Intranet Events
ATTACH;FMTTYPE=image/png:https://news.uoguelph.ca/wp-content/uploads/2021/11/Final-BIPOC-Co-opIn-Course-Admission-Panel.png
GEO:51.253775;-85.323214
END:VEVENT
BEGIN:VEVENT
DTSTART;TZID=America/Toronto:20211116T173000
DTEND;TZID=America/Toronto:20211116T184500
DTSTAMP:20260421T073942
CREATED:20211101T124642Z
LAST-MODIFIED:20211101T124642Z
UID:70767-1637083800-1637088300@news.uoguelph.ca
SUMMARY:ONLINE: Mental Health for Money Makers - Navigating Mental Health for Entrepreneurs
DESCRIPTION:As part of mental well-being awareness week\, The John F. Wood Centre is proud to collaborate with the Wellness Department at the University of Guelph and the Business Development Bank of Canada for our Bigger Picture Series. The topic of discussion will be Mental Health for Money Makers – Navigating Mental Health for Entrepreneurs. \nOur keynote speaker\, Chris Coulter of The Finish Line Group\, has seen firsthand the impact that mental health can have upon the success within your business and your life and how the two are on a constant collision course. \nThe keynote will be followed by a discussion with experts from the U of G Wellness Department and the Business Development Bank of Canada to discuss the resources and tangible next steps for those with an entrepreneurial mindset and those working in the business industry. Whether you are your own boss or work in a corporation\, this conversation will provide value and insight into why mental health matters in all aspects of our lives. We hope you will join us for this important conversation on November 16.
URL:https://news.uoguelph.ca/event/online-mental-health-for-money-makers-navigating-mental-health-for-entrepreneurs/
LOCATION:ONLINE\, Ontario\, Canada
CATEGORIES:Homepage,Intranet Events
ATTACH;FMTTYPE=image/png:https://news.uoguelph.ca/wp-content/uploads/2021/10/BIGGER-PICTURE-SERIES.png
GEO:51.253775;-85.323214
END:VEVENT
END:VCALENDAR