BEGIN:VCALENDAR
VERSION:2.0
PRODID:-//U of G News - ECPv6.15.11//NONSGML v1.0//EN
CALSCALE:GREGORIAN
METHOD:PUBLISH
X-ORIGINAL-URL:https://news.uoguelph.ca
X-WR-CALDESC:Events for U of G News
REFRESH-INTERVAL;VALUE=DURATION:PT1H
X-Robots-Tag:noindex
X-PUBLISHED-TTL:PT1H
BEGIN:VTIMEZONE
TZID:America/Toronto
BEGIN:DAYLIGHT
TZOFFSETFROM:-0500
TZOFFSETTO:-0400
TZNAME:EDT
DTSTART:20200308T070000
END:DAYLIGHT
BEGIN:STANDARD
TZOFFSETFROM:-0400
TZOFFSETTO:-0500
TZNAME:EST
DTSTART:20201101T060000
END:STANDARD
BEGIN:DAYLIGHT
TZOFFSETFROM:-0500
TZOFFSETTO:-0400
TZNAME:EDT
DTSTART:20210314T070000
END:DAYLIGHT
BEGIN:STANDARD
TZOFFSETFROM:-0400
TZOFFSETTO:-0500
TZNAME:EST
DTSTART:20211107T060000
END:STANDARD
BEGIN:DAYLIGHT
TZOFFSETFROM:-0500
TZOFFSETTO:-0400
TZNAME:EDT
DTSTART:20220313T070000
END:DAYLIGHT
BEGIN:STANDARD
TZOFFSETFROM:-0400
TZOFFSETTO:-0500
TZNAME:EST
DTSTART:20221106T060000
END:STANDARD
END:VTIMEZONE
BEGIN:VEVENT
DTSTART;TZID=America/Toronto:20211108T090000
DTEND;TZID=America/Toronto:20211108T160000
DTSTAMP:20260419T215710
CREATED:20211108T134321Z
LAST-MODIFIED:20211108T134321Z
UID:71065-1636362000-1636387200@news.uoguelph.ca
SUMMARY:Holocaust Education Week - Cattle-car Exhibit
DESCRIPTION:A large cattle-car replica will be parked in Branion Plaza all week with an exhibit inside\, and friendly staff and student leaders outside available to answer questions. This 10-22 minute exhibit explores key components of the Holocaust and its impacts.
URL:https://news.uoguelph.ca/event/holocaust-education-week-cattle-car-exhibit-3/2021-11-08/
LOCATION:Branion Plaza\, Branion Plaza\, Guelph\, Ontario\, N1G 2W1\, Canada
CATEGORIES:Intranet Events
GEO:43.530917;-80.226715
X-APPLE-STRUCTURED-LOCATION;VALUE=URI;X-ADDRESS=Branion Plaza Branion Plaza Guelph Ontario N1G 2W1 Canada;X-APPLE-RADIUS=500;X-TITLE=Branion Plaza:geo:-80.226715,43.530917
END:VEVENT
BEGIN:VEVENT
DTSTART;TZID=America/Toronto:20211108T100000
DTEND;TZID=America/Toronto:20211108T112000
DTSTAMP:20260419T215710
CREATED:20211026T174053Z
LAST-MODIFIED:20211026T174053Z
UID:70584-1636365600-1636370400@news.uoguelph.ca
SUMMARY:ONLINE: Library Workshop - Create Posters with Canva
DESCRIPTION:Canva is a web-based graphic design tool to create posters\, infographics\, social media posts and more. Use templates or create from scratch. Join staff from the library’s media studio to learn about this tool and practice creating a poster. By the end of the workshop\, participants will: \n\nDiscuss strengths and limitations of Canva\nIdentify strategies for designing your project\nCreate a Canva account\nPractice creating with Canva\n\nThis workshop will be held over Zoom. Participants will be emailed the access link before the workshop begins. \nRelated LibGuide: Create a Digital Design with Canva
URL:https://news.uoguelph.ca/event/online-library-workshop-create-posters-with-canva/
LOCATION:ONLINE\, Ontario\, Canada
CATEGORIES:Intranet Events
GEO:51.253775;-85.323214
END:VEVENT
BEGIN:VEVENT
DTSTART;TZID=America/Toronto:20211108T133000
DTEND;TZID=America/Toronto:20211108T145000
DTSTAMP:20260419T215710
CREATED:20211026T145930Z
LAST-MODIFIED:20211026T164602Z
UID:70585-1636378200-1636383000@news.uoguelph.ca
SUMMARY:ONLINE: Thriving in Action - Finding Balance
DESCRIPTION:Join us for Thriving in Action\, a new online program at the University of Guelph. Thriving in Action will help you move from languishing to flourishing throughout your time in university. Build motivation\, optimism and resilience\, and learn how to integrate those skills into your work as a student. In each workshop\, you will learn and practice both wellness and learning strategies that will help you be the student you want to be. Join us for one or all four workshops this spring and learn how to thrive. Workshops are offered online and will be delivered via Zoom. This program is offered by the Library and Student Wellness. \nIf you attend all four workshops\, you can obtain a letter of recognition for your participation. \nWorkshop 2: Finding Balance \nHow do we find a balance between being a student\, a worker\, a friend\, a family member? How do we find joy in our many roles? In this Thriving in Action session\, we will explore how we can integrate the many facets of our lives together. We will identify the habits that help us thrive and learn strategies to help us build new habits. This workshop is also offered on Tuesday\, September 28\, 1:00-2:20 p.m. \nThriving in Action Workshops \nJoin us for one or more of the other Thriving in Action workshops. Please register for each workshop you wish to attend. \n\nConnections on Monday\, November 1 from 1:30-2:50 p.m\nFinding Balance on Monday\, November 8 from 1:30 – 2:50 p.m.\nCoping with Difficulties on Monday\, November 22 from 1:30 – 2:50 p.m.\nMindfulness and the Present Moment on Monday\, November 15 from 1:30 – 2:50 p.m.\n\nOther Registration Information \nThe link to the workshop will be emailed to you in advance of the workshop. Registration for this workshop is also offered via GryphLife. \nQuestions? \nEmail learning@uoguelph.ca or wellness@uoguelph.ca.
URL:https://news.uoguelph.ca/event/online-thriving-in-action-finding-balance-2/
LOCATION:ONLINE\, Ontario\, Canada
CATEGORIES:Intranet Events
GEO:51.253775;-85.323214
END:VEVENT
END:VCALENDAR