BEGIN:VCALENDAR
VERSION:2.0
PRODID:-//U of G News - ECPv6.15.11//NONSGML v1.0//EN
CALSCALE:GREGORIAN
METHOD:PUBLISH
X-ORIGINAL-URL:https://news.uoguelph.ca
X-WR-CALDESC:Events for U of G News
REFRESH-INTERVAL;VALUE=DURATION:PT1H
X-Robots-Tag:noindex
X-PUBLISHED-TTL:PT1H
BEGIN:VTIMEZONE
TZID:America/Toronto
BEGIN:DAYLIGHT
TZOFFSETFROM:-0500
TZOFFSETTO:-0400
TZNAME:EDT
DTSTART:20200308T070000
END:DAYLIGHT
BEGIN:STANDARD
TZOFFSETFROM:-0400
TZOFFSETTO:-0500
TZNAME:EST
DTSTART:20201101T060000
END:STANDARD
BEGIN:DAYLIGHT
TZOFFSETFROM:-0500
TZOFFSETTO:-0400
TZNAME:EDT
DTSTART:20210314T070000
END:DAYLIGHT
BEGIN:STANDARD
TZOFFSETFROM:-0400
TZOFFSETTO:-0500
TZNAME:EST
DTSTART:20211107T060000
END:STANDARD
BEGIN:DAYLIGHT
TZOFFSETFROM:-0500
TZOFFSETTO:-0400
TZNAME:EDT
DTSTART:20220313T070000
END:DAYLIGHT
BEGIN:STANDARD
TZOFFSETFROM:-0400
TZOFFSETTO:-0500
TZNAME:EST
DTSTART:20221106T060000
END:STANDARD
END:VTIMEZONE
BEGIN:VEVENT
DTSTART;TZID=America/Toronto:20211106T100000
DTEND;TZID=America/Toronto:20211106T113000
DTSTAMP:20260420T132105
CREATED:20211007T193933Z
LAST-MODIFIED:20211007T193933Z
UID:69939-1636192800-1636198200@news.uoguelph.ca
SUMMARY:ONLINE: Signed and Sealed - The Rise of the Charter in Medieval Scotland
DESCRIPTION:Join us for an exciting online event and exhibit launch featuring our valuable medieval Scottish land charter collection. \nKeynote Speaker: \n\nProf. Cynthia Neville\, formerly of Dalhousie University\, now of the University of Guelph’s Centre for Scottish Studies.\n‘Chart(er)ing a New Course in Scottish History at the University of Guelph’.\n\nRegistration is available on the event website and early registration is encouraged. The event is free and open to the public. \nThe event is sponsored by the University of Guelph’s Centre for Scottish Studies and Archival and Special Collections – McLaughlin Library. \nPlease note: This event will be hosted live on Zoom and the link will be posted on the event page and emailed to all registered attendants 24 hours before the event begins.
URL:https://news.uoguelph.ca/event/online-signed-and-sealed-the-rise-of-the-charter-in-medieval-scotland/
LOCATION:ONLINE\, Ontario\, Canada
CATEGORIES:Homepage,Intranet Events
ATTACH;FMTTYPE=image/jpeg:https://news.uoguelph.ca/wp-content/uploads/2021/10/Signed_Sealed-event-image-.jpg
GEO:51.253775;-85.323214
END:VEVENT
END:VCALENDAR