BEGIN:VCALENDAR
VERSION:2.0
PRODID:-//U of G News - ECPv6.15.11//NONSGML v1.0//EN
CALSCALE:GREGORIAN
METHOD:PUBLISH
X-ORIGINAL-URL:https://news.uoguelph.ca
X-WR-CALDESC:Events for U of G News
REFRESH-INTERVAL;VALUE=DURATION:PT1H
X-Robots-Tag:noindex
X-PUBLISHED-TTL:PT1H
BEGIN:VTIMEZONE
TZID:America/Toronto
BEGIN:DAYLIGHT
TZOFFSETFROM:-0500
TZOFFSETTO:-0400
TZNAME:EDT
DTSTART:20200308T070000
END:DAYLIGHT
BEGIN:STANDARD
TZOFFSETFROM:-0400
TZOFFSETTO:-0500
TZNAME:EST
DTSTART:20201101T060000
END:STANDARD
BEGIN:DAYLIGHT
TZOFFSETFROM:-0500
TZOFFSETTO:-0400
TZNAME:EDT
DTSTART:20210314T070000
END:DAYLIGHT
BEGIN:STANDARD
TZOFFSETFROM:-0400
TZOFFSETTO:-0500
TZNAME:EST
DTSTART:20211107T060000
END:STANDARD
BEGIN:DAYLIGHT
TZOFFSETFROM:-0500
TZOFFSETTO:-0400
TZNAME:EDT
DTSTART:20220313T070000
END:DAYLIGHT
BEGIN:STANDARD
TZOFFSETFROM:-0400
TZOFFSETTO:-0500
TZNAME:EST
DTSTART:20221106T060000
END:STANDARD
END:VTIMEZONE
BEGIN:VEVENT
DTSTART;TZID=America/Toronto:20211101T100000
DTEND;TZID=America/Toronto:20211101T120000
DTSTAMP:20260419T215709
CREATED:20211026T174557Z
LAST-MODIFIED:20211026T174603Z
UID:70580-1635760800-1635768000@news.uoguelph.ca
SUMMARY:ONLINE: Library Workshop - Intermediate SAS on Demand
DESCRIPTION:In this workshop\, you will learn how to conduct inferential statistics using SAS on Demand. SAS on Demand\, is a cloud version of SAS that can be accessed for free by students and academics. \nAt the end of this workshop\, you will be able to: \n\nConduct different types of t-tests\nConduct a one-way ANOVA\nConduct a repeated-measures ANOVA\nCheck the assumptions of tests\nRestructure data for different types of analysis\n\nAudience: This is an intermediate-level workshop\, attending the Introduction to SAS on Demand is highly recommended for novices. \nPlease make sure you create a SAS on Demand account prior to the workshop
URL:https://news.uoguelph.ca/event/online-library-workshop-intermediate-sas-on-demand/
LOCATION:ONLINE\, Ontario\, Canada
CATEGORIES:Intranet Events
GEO:51.253775;-85.323214
END:VEVENT
BEGIN:VEVENT
DTSTART;TZID=America/Toronto:20211101T133000
DTEND;TZID=America/Toronto:20211101T145000
DTSTAMP:20260419T215709
CREATED:20211026T174456Z
LAST-MODIFIED:20211026T174456Z
UID:70581-1635773400-1635778200@news.uoguelph.ca
SUMMARY:ONLINE: Thriving in Action - Connections
DESCRIPTION:Join us for Thriving in Action\, a new online program at the University of Guelph. Thriving in Action will help you move from languishing to flourishing throughout your time in university. Build motivation\, optimism and resilience\, and learn how to integrate those skills into your work as a student. In each workshop\, you will learn and practice both wellness and learning strategies that will help you be the student you want to be. Join us for one or all four workshops this spring and learn how to thrive. Workshops are offered online and will be delivered via Zoom. This program is offered by the Library and Student Wellness. \nIf you attend all four workshops\, you can obtain a letter of recognition for your participation. \nWorkshop 1: Connections \nFeeling a sense of connection is directly linked not only with positive wellbeing but with academic success. Connectedness helps reduce major risk factors that can be barriers to scholastic thriving. This workshop will support the development of connection with our very selves\, with friends and family\, and with our campus\, as well as tapping into our shared humanity can help us with healthy decision-making\, genuine intimacy\, and self-compassion. This workshop is also offered on Tuesday\, September 21\, from 1-2:20 p.m. \nThriving in Action Workshops \nJoin us for one or more of the other Thriving in Action workshops. Please register for each workshop you wish to attend. \n\nConnections on Monday\, November 1 from 1:30-2:50 p.m\nFinding Balance on Monday\, November 8 from 1:30 – 2:50 p.m.\nCoping with Difficulties on Monday\, November 22 from 1:30 – 2:50 p.m.\nMindfulness and the Present Moment on Monday\, November 15 from 1:30 – 2:50 p.m.\n\nOther Registration Information\nThe link to the workshop will be emailed to you in advance of the workshop. Registration for this workshop is also offered via GryphLife. \nQuestions?\nEmail learning@uoguelph.ca or wellness@uoguelph.ca.
URL:https://news.uoguelph.ca/event/online-thriving-in-action-connections-2/
LOCATION:ImprovLab\, Guelph\, Ontario\, Canada
CATEGORIES:Intranet Events
GEO:51.253775;-85.323214
END:VEVENT
BEGIN:VEVENT
DTSTART;TZID=America/Toronto:20211101T190000
DTEND;TZID=America/Toronto:20211101T203000
DTSTAMP:20260419T215709
CREATED:20210906T161939Z
LAST-MODIFIED:20210906T161939Z
UID:68592-1635793200-1635798600@news.uoguelph.ca
SUMMARY:ONLINE: Decreasing Headaches Program
DESCRIPTION:More than three or four headaches a month are too many! \nLearn drug-free strategies to decrease tension and migraine headaches\, and decrease headache pain. \nThis four-part skills program with Kathy Somers of the Stress Management and High Performance Clinic meets online for 90 minutes\, once a week\, for four weeks. \nYour link will be e-mailed to you upon registration in the Decreasing Headaches program.
URL:https://news.uoguelph.ca/event/online-decreasing-headaches-program/
LOCATION:ONLINE\, Ontario\, Canada
CATEGORIES:Intranet Events
GEO:51.253775;-85.323214
END:VEVENT
END:VCALENDAR