BEGIN:VCALENDAR
VERSION:2.0
PRODID:-//U of G News - ECPv6.15.11//NONSGML v1.0//EN
CALSCALE:GREGORIAN
METHOD:PUBLISH
X-WR-CALNAME:U of G News
X-ORIGINAL-URL:https://news.uoguelph.ca
X-WR-CALDESC:Events for U of G News
REFRESH-INTERVAL;VALUE=DURATION:PT1H
X-Robots-Tag:noindex
X-PUBLISHED-TTL:PT1H
BEGIN:VTIMEZONE
TZID:America/Toronto
BEGIN:DAYLIGHT
TZOFFSETFROM:-0500
TZOFFSETTO:-0400
TZNAME:EDT
DTSTART:20200308T070000
END:DAYLIGHT
BEGIN:STANDARD
TZOFFSETFROM:-0400
TZOFFSETTO:-0500
TZNAME:EST
DTSTART:20201101T060000
END:STANDARD
BEGIN:DAYLIGHT
TZOFFSETFROM:-0500
TZOFFSETTO:-0400
TZNAME:EDT
DTSTART:20210314T070000
END:DAYLIGHT
BEGIN:STANDARD
TZOFFSETFROM:-0400
TZOFFSETTO:-0500
TZNAME:EST
DTSTART:20211107T060000
END:STANDARD
BEGIN:DAYLIGHT
TZOFFSETFROM:-0500
TZOFFSETTO:-0400
TZNAME:EDT
DTSTART:20220313T070000
END:DAYLIGHT
BEGIN:STANDARD
TZOFFSETFROM:-0400
TZOFFSETTO:-0500
TZNAME:EST
DTSTART:20221106T060000
END:STANDARD
END:VTIMEZONE
BEGIN:VEVENT
DTSTART;TZID=America/Toronto:20210708T100000
DTEND;TZID=America/Toronto:20210708T113000
DTSTAMP:20260419T140052
CREATED:20210616T141000Z
LAST-MODIFIED:20210616T141000Z
UID:65597-1625738400-1625743800@news.uoguelph.ca
SUMMARY:ONLINE: Library Workshop - Open Scholarship Series: Open Access\, Open Data and the Tri-Agencies
DESCRIPTION:As a part of our Open Scholarship Series\, this workshop focuses on using open access information and open data in your projects\, and provides details about the Tri-Agencies. Additionally\, this online workshop will explore the benefits of open access\, the use of open data generally\, and the use in our context at U of G.
URL:https://news.uoguelph.ca/event/online-library-workshop-open-scholarship-series-open-access-open-data-and-the-tri-agencies/
LOCATION:ONLINE\, Ontario\, Canada
CATEGORIES:Intranet Events
GEO:51.253775;-85.323214
END:VEVENT
BEGIN:VEVENT
DTSTART;TZID=America/Toronto:20210708T120000
DTEND;TZID=America/Toronto:20210708T133000
DTSTAMP:20260419T140052
CREATED:20210709T163356Z
LAST-MODIFIED:20210712T125837Z
UID:66238-1625745600-1625751000@news.uoguelph.ca
SUMMARY:ONLINE: Tree ID
DESCRIPTION:Do you love trees but can’t tell an ash from a walnut\, a birch from a beech\, or a spruce from a fir? Are you looking to connect more with the nature around you as we continue to stay close to home? \nJoin Shelley Hunt\, U of G course instructor and former arboretum director\, for a virtual\, interactive tree identification workshop! Over the course of four Zoom sessions\, with hands-on challenges to complete in between\, you will learn the basics of tree ID\, with a focus on native Ontario species (and their look-alike non-native counterparts). You will learn about the important features to look for (e.g.\, leaf shape and arrangement\, bark characteristics\, fruits and cones)\, as well as the details that help us to distinguish between species in the same group (e.g.\, ashes\, pines\, maples). You will practice your skills on trees that you can (safely) find in your local area\, and get feedback on your ‘homework’. The fourth session will include a virtual tour of trees in the Arboretum’s collections. Sessions will run from noon-1:30 p.m. (one hour of instruction\, and up to 30 minutes of optional questions/discussion) on Thursdays from July 8 through to July 29. \nFee: $70 (plus HST) per person.
URL:https://news.uoguelph.ca/event/tree-id/2021-07-08/
LOCATION:ONLINE\, Ontario\, Canada
CATEGORIES:Intranet Events
GEO:51.253775;-85.323214
END:VEVENT
END:VCALENDAR