BEGIN:VCALENDAR
VERSION:2.0
PRODID:-//U of G News - ECPv6.15.11//NONSGML v1.0//EN
CALSCALE:GREGORIAN
METHOD:PUBLISH
X-ORIGINAL-URL:https://news.uoguelph.ca
X-WR-CALDESC:Events for U of G News
REFRESH-INTERVAL;VALUE=DURATION:PT1H
X-Robots-Tag:noindex
X-PUBLISHED-TTL:PT1H
BEGIN:VTIMEZONE
TZID:America/Toronto
BEGIN:DAYLIGHT
TZOFFSETFROM:-0500
TZOFFSETTO:-0400
TZNAME:EDT
DTSTART:20160313T070000
END:DAYLIGHT
BEGIN:STANDARD
TZOFFSETFROM:-0400
TZOFFSETTO:-0500
TZNAME:EST
DTSTART:20161106T060000
END:STANDARD
BEGIN:DAYLIGHT
TZOFFSETFROM:-0500
TZOFFSETTO:-0400
TZNAME:EDT
DTSTART:20170312T070000
END:DAYLIGHT
BEGIN:STANDARD
TZOFFSETFROM:-0400
TZOFFSETTO:-0500
TZNAME:EST
DTSTART:20171105T060000
END:STANDARD
BEGIN:DAYLIGHT
TZOFFSETFROM:-0500
TZOFFSETTO:-0400
TZNAME:EDT
DTSTART:20180311T070000
END:DAYLIGHT
BEGIN:STANDARD
TZOFFSETFROM:-0400
TZOFFSETTO:-0500
TZNAME:EST
DTSTART:20181104T060000
END:STANDARD
END:VTIMEZONE
BEGIN:VEVENT
DTSTART;TZID=America/Toronto:20170905T133000
DTEND;TZID=America/Toronto:20170905T133000
DTSTAMP:20260423T020222
CREATED:20170829T201715Z
LAST-MODIFIED:20170829T201715Z
UID:29093-1504618200-1504618200@news.uoguelph.ca
SUMMARY:PhD defense - Elnaz Latifi
DESCRIPTION:PhD candidate Elnaz Latifi will defend her thesis “Iridium-4′-Phenyl-Terpyridine\, Ruthenium-Triphos\, and Ruthenium-N-Triphos Complexes as Homogeneous Catalysts for Hydrogenation of Biomass-Derived Substrates in Aqueous Acidic Medium at High Temperature” on Sept. 5. All are welcome. \nRoom 222\, MacNaughton Building
URL:https://news.uoguelph.ca/event/phd-defense-elnaz-latifi/
LOCATION:MacNaughton Building\, 482  Gordon Street
GEO:33.3231618;-84.7653526
X-APPLE-STRUCTURED-LOCATION;VALUE=URI;X-ADDRESS=MacNaughton Building 482  Gordon Street;X-APPLE-RADIUS=500;X-TITLE=482  Gordon Street:geo:-84.7653526,33.3231618
END:VEVENT
END:VCALENDAR