BEGIN:VCALENDAR
VERSION:2.0
PRODID:-//U of G News - ECPv6.15.11//NONSGML v1.0//EN
CALSCALE:GREGORIAN
METHOD:PUBLISH
X-WR-CALNAME:U of G News
X-ORIGINAL-URL:https://news.uoguelph.ca
X-WR-CALDESC:Events for U of G News
REFRESH-INTERVAL;VALUE=DURATION:PT1H
X-Robots-Tag:noindex
X-PUBLISHED-TTL:PT1H
BEGIN:VTIMEZONE
TZID:America/Toronto
BEGIN:DAYLIGHT
TZOFFSETFROM:-0500
TZOFFSETTO:-0400
TZNAME:EDT
DTSTART:20160313T070000
END:DAYLIGHT
BEGIN:STANDARD
TZOFFSETFROM:-0400
TZOFFSETTO:-0500
TZNAME:EST
DTSTART:20161106T060000
END:STANDARD
BEGIN:DAYLIGHT
TZOFFSETFROM:-0500
TZOFFSETTO:-0400
TZNAME:EDT
DTSTART:20170312T070000
END:DAYLIGHT
BEGIN:STANDARD
TZOFFSETFROM:-0400
TZOFFSETTO:-0500
TZNAME:EST
DTSTART:20171105T060000
END:STANDARD
BEGIN:DAYLIGHT
TZOFFSETFROM:-0500
TZOFFSETTO:-0400
TZNAME:EDT
DTSTART:20180311T070000
END:DAYLIGHT
BEGIN:STANDARD
TZOFFSETFROM:-0400
TZOFFSETTO:-0500
TZNAME:EST
DTSTART:20181104T060000
END:STANDARD
END:VTIMEZONE
BEGIN:VEVENT
DTSTART;VALUE=DATE:20170601
DTEND;VALUE=DATE:20170901
DTSTAMP:20260423T004112
CREATED:20170509T194241Z
LAST-MODIFIED:20170509T194241Z
UID:26622-1496275200-1504223999@news.uoguelph.ca
SUMMARY:Volunteers Needed for English Language Buddy Program
DESCRIPTION:The English language program (ELP) is currently seeking students who would like to participate in the buddy program this summer. If you are interested in helping an ELP student adjust to life on campus\, while making a new friend and learning about a new culture\, email eslevent@uoguelph.ca or fill out the online application. \nAs an international ELP student\, moving to a foreign country to learn a new language and culture can be challenging\, so this is a great opportunity to support\, engage and get to know someone who really appreciates it. All you need to do is give one to two hours of your time per week. \nLocation: Johnston Hall\, Room 154C
URL:https://news.uoguelph.ca/event/volunteers-needed-english-language-buddy-program/
END:VEVENT
BEGIN:VEVENT
DTSTART;TZID=America/Toronto:20170830T183000
DTEND;TZID=America/Toronto:20170830T193000
DTSTAMP:20260423T004112
CREATED:20170816T142313Z
LAST-MODIFIED:20170816T142313Z
UID:28864-1504117800-1504121400@news.uoguelph.ca
SUMMARY:Conversation with Matthew Moore
DESCRIPTION:Matthew Moore is a multimedia artist\, fourth-generation farmer and food activist based in Phoenix\, Arizona. Encompassing video\, installation\, public art\, and architecture\, his community-engaged practice addresses issues related to land\, agriculture and sustainability.
URL:https://news.uoguelph.ca/event/conversation-matthew-moore/
LOCATION:Art Gallery of Guelph\, 358 Gordon Street\, Guelph\, Canada
CATEGORIES:Homepage
GEO:43.5329358;-80.2326348
X-APPLE-STRUCTURED-LOCATION;VALUE=URI;X-ADDRESS=Art Gallery of Guelph 358 Gordon Street Guelph Canada;X-APPLE-RADIUS=500;X-TITLE=358 Gordon Street:geo:-80.2326348,43.5329358
END:VEVENT
BEGIN:VEVENT
DTSTART;TZID=America/Toronto:20170830T190000
DTEND;TZID=America/Toronto:20170830T203000
DTSTAMP:20260423T004112
CREATED:20170629T190435Z
LAST-MODIFIED:20170629T190953Z
UID:27472-1504119600-1504125000@news.uoguelph.ca
SUMMARY:Arboretum Wednesday Night Walk
DESCRIPTION:Join us for our weekly summer walk in the arboretum. Cost is $2 per person with children under five free.  This week’s topic is Surfing the Web. \nContact arbor@uoguelph.ca.
URL:https://news.uoguelph.ca/event/arboretum-wednesday-night-walk/
CATEGORIES:Homepage
END:VEVENT
END:VCALENDAR