BEGIN:VCALENDAR
VERSION:2.0
PRODID:-//U of G News - ECPv6.15.11//NONSGML v1.0//EN
CALSCALE:GREGORIAN
METHOD:PUBLISH
X-ORIGINAL-URL:https://news.uoguelph.ca
X-WR-CALDESC:Events for U of G News
REFRESH-INTERVAL;VALUE=DURATION:PT1H
X-Robots-Tag:noindex
X-PUBLISHED-TTL:PT1H
BEGIN:VTIMEZONE
TZID:America/Toronto
BEGIN:DAYLIGHT
TZOFFSETFROM:-0500
TZOFFSETTO:-0400
TZNAME:EDT
DTSTART:20160313T070000
END:DAYLIGHT
BEGIN:STANDARD
TZOFFSETFROM:-0400
TZOFFSETTO:-0500
TZNAME:EST
DTSTART:20161106T060000
END:STANDARD
BEGIN:DAYLIGHT
TZOFFSETFROM:-0500
TZOFFSETTO:-0400
TZNAME:EDT
DTSTART:20170312T070000
END:DAYLIGHT
BEGIN:STANDARD
TZOFFSETFROM:-0400
TZOFFSETTO:-0500
TZNAME:EST
DTSTART:20171105T060000
END:STANDARD
BEGIN:DAYLIGHT
TZOFFSETFROM:-0500
TZOFFSETTO:-0400
TZNAME:EDT
DTSTART:20180311T070000
END:DAYLIGHT
BEGIN:STANDARD
TZOFFSETFROM:-0400
TZOFFSETTO:-0500
TZNAME:EST
DTSTART:20181104T060000
END:STANDARD
END:VTIMEZONE
BEGIN:VEVENT
DTSTART;VALUE=DATE:20170601
DTEND;VALUE=DATE:20170901
DTSTAMP:20260424T082301
CREATED:20170509T194241Z
LAST-MODIFIED:20170509T194241Z
UID:26622-1496275200-1504223999@news.uoguelph.ca
SUMMARY:Volunteers Needed for English Language Buddy Program
DESCRIPTION:The English language program (ELP) is currently seeking students who would like to participate in the buddy program this summer. If you are interested in helping an ELP student adjust to life on campus\, while making a new friend and learning about a new culture\, email eslevent@uoguelph.ca or fill out the online application. \nAs an international ELP student\, moving to a foreign country to learn a new language and culture can be challenging\, so this is a great opportunity to support\, engage and get to know someone who really appreciates it. All you need to do is give one to two hours of your time per week. \nLocation: Johnston Hall\, Room 154C
URL:https://news.uoguelph.ca/event/volunteers-needed-english-language-buddy-program/
END:VEVENT
BEGIN:VEVENT
DTSTART;VALUE=DATE:20170622
DTEND;VALUE=DATE:20170624
DTSTAMP:20260424T082301
CREATED:20170621T133653Z
LAST-MODIFIED:20170621T133653Z
UID:27293-1498089600-1498262399@news.uoguelph.ca
SUMMARY:39th Annual Sexuality Conference
DESCRIPTION:The University of Guelph hosts the 39th annual Guelph Sexuality Conference\, Canada’s largest and longest-running sexual health forum\, June 22 to 23. \nThe conference brings together several hundred researchers\, health-care workers\, therapists\, students\, social workers and other health professionals from across North America. \nThis year’s conference theme is  “Pain.”
URL:https://news.uoguelph.ca/event/39th-annual-sexuality-conference/
LOCATION:Rozanski Hall\, 98 Trent Lane\, Guelph\, Ontario\, N1G 2W1
CATEGORIES:Homepage
GEO:43.5322267;-80.2258579
X-APPLE-STRUCTURED-LOCATION;VALUE=URI;X-ADDRESS=Rozanski Hall 98 Trent Lane Guelph Ontario N1G 2W1;X-APPLE-RADIUS=500;X-TITLE=98 Trent Lane:geo:-80.2258579,43.5322267
END:VEVENT
END:VCALENDAR