BEGIN:VCALENDAR
VERSION:2.0
PRODID:-//U of G News - ECPv6.15.11//NONSGML v1.0//EN
CALSCALE:GREGORIAN
METHOD:PUBLISH
X-ORIGINAL-URL:https://news.uoguelph.ca
X-WR-CALDESC:Events for U of G News
REFRESH-INTERVAL;VALUE=DURATION:PT1H
X-Robots-Tag:noindex
X-PUBLISHED-TTL:PT1H
BEGIN:VTIMEZONE
TZID:America/Toronto
BEGIN:DAYLIGHT
TZOFFSETFROM:-0500
TZOFFSETTO:-0400
TZNAME:EDT
DTSTART:20160313T070000
END:DAYLIGHT
BEGIN:STANDARD
TZOFFSETFROM:-0400
TZOFFSETTO:-0500
TZNAME:EST
DTSTART:20161106T060000
END:STANDARD
BEGIN:DAYLIGHT
TZOFFSETFROM:-0500
TZOFFSETTO:-0400
TZNAME:EDT
DTSTART:20170312T070000
END:DAYLIGHT
BEGIN:STANDARD
TZOFFSETFROM:-0400
TZOFFSETTO:-0500
TZNAME:EST
DTSTART:20171105T060000
END:STANDARD
BEGIN:DAYLIGHT
TZOFFSETFROM:-0500
TZOFFSETTO:-0400
TZNAME:EDT
DTSTART:20180311T070000
END:DAYLIGHT
BEGIN:STANDARD
TZOFFSETFROM:-0400
TZOFFSETTO:-0500
TZNAME:EST
DTSTART:20181104T060000
END:STANDARD
END:VTIMEZONE
BEGIN:VEVENT
DTSTART;VALUE=DATE:20170601
DTEND;VALUE=DATE:20170901
DTSTAMP:20260423T175551
CREATED:20170509T194241Z
LAST-MODIFIED:20170509T194241Z
UID:26622-1496275200-1504223999@news.uoguelph.ca
SUMMARY:Volunteers Needed for English Language Buddy Program
DESCRIPTION:The English language program (ELP) is currently seeking students who would like to participate in the buddy program this summer. If you are interested in helping an ELP student adjust to life on campus\, while making a new friend and learning about a new culture\, email eslevent@uoguelph.ca or fill out the online application. \nAs an international ELP student\, moving to a foreign country to learn a new language and culture can be challenging\, so this is a great opportunity to support\, engage and get to know someone who really appreciates it. All you need to do is give one to two hours of your time per week. \nLocation: Johnston Hall\, Room 154C
URL:https://news.uoguelph.ca/event/volunteers-needed-english-language-buddy-program/
END:VEVENT
BEGIN:VEVENT
DTSTART;TZID=America/Toronto:20170608T103000
DTEND;TZID=America/Toronto:20170608T120000
DTSTAMP:20260423T175551
CREATED:20170505T124315Z
LAST-MODIFIED:20170505T124404Z
UID:26546-1496917800-1496923200@news.uoguelph.ca
SUMMARY:2017 Professional Staff Association AGM
DESCRIPTION:All professional and managerial staff are welcome to attend the Professional Staff Association annual general meeting. A barbecue lunch will follow the meeting. \nLocation: OVC Lifetime Learning Centre\, Room 1714
URL:https://news.uoguelph.ca/event/2017-professional-staff-association-agm/
CATEGORIES:Homepage
END:VEVENT
BEGIN:VEVENT
DTSTART;TZID=America/Toronto:20170608T163000
DTEND;TZID=America/Toronto:20170608T173000
DTSTAMP:20260423T175551
CREATED:20170531T131526Z
LAST-MODIFIED:20170608T192916Z
UID:27017-1496939400-1496943000@news.uoguelph.ca
SUMMARY:Installation of Martha Billes as Chancellor
DESCRIPTION:The University of Guelph will install Martha Billes as its next chancellor June 8 during a ceremony in War Memorial Hall. \nThe event will be held at 4:30 p.m.; doors open at 4 p.m. The ceremony is free and open to the U of G community and general public. \nBilles\, a Canadian business icon\, philanthropist and U of G alumna\, will be the University’s ninth chancellor\, and the first U of G graduate to hold the position.
URL:https://news.uoguelph.ca/event/installation-martha-billes-chancellor/
END:VEVENT
END:VCALENDAR