BEGIN:VCALENDAR
VERSION:2.0
PRODID:-//U of G News - ECPv6.15.11//NONSGML v1.0//EN
CALSCALE:GREGORIAN
METHOD:PUBLISH
X-ORIGINAL-URL:https://news.uoguelph.ca
X-WR-CALDESC:Events for U of G News
REFRESH-INTERVAL;VALUE=DURATION:PT1H
X-Robots-Tag:noindex
X-PUBLISHED-TTL:PT1H
BEGIN:VTIMEZONE
TZID:America/Toronto
BEGIN:DAYLIGHT
TZOFFSETFROM:-0500
TZOFFSETTO:-0400
TZNAME:EDT
DTSTART:20160313T070000
END:DAYLIGHT
BEGIN:STANDARD
TZOFFSETFROM:-0400
TZOFFSETTO:-0500
TZNAME:EST
DTSTART:20161106T060000
END:STANDARD
BEGIN:DAYLIGHT
TZOFFSETFROM:-0500
TZOFFSETTO:-0400
TZNAME:EDT
DTSTART:20170312T070000
END:DAYLIGHT
BEGIN:STANDARD
TZOFFSETFROM:-0400
TZOFFSETTO:-0500
TZNAME:EST
DTSTART:20171105T060000
END:STANDARD
BEGIN:DAYLIGHT
TZOFFSETFROM:-0500
TZOFFSETTO:-0400
TZNAME:EDT
DTSTART:20180311T070000
END:DAYLIGHT
BEGIN:STANDARD
TZOFFSETFROM:-0400
TZOFFSETTO:-0500
TZNAME:EST
DTSTART:20181104T060000
END:STANDARD
END:VTIMEZONE
BEGIN:VEVENT
DTSTART;VALUE=DATE:20170601
DTEND;VALUE=DATE:20170901
DTSTAMP:20260423T163434
CREATED:20170509T194241Z
LAST-MODIFIED:20170509T194241Z
UID:26622-1496275200-1504223999@news.uoguelph.ca
SUMMARY:Volunteers Needed for English Language Buddy Program
DESCRIPTION:The English language program (ELP) is currently seeking students who would like to participate in the buddy program this summer. If you are interested in helping an ELP student adjust to life on campus\, while making a new friend and learning about a new culture\, email eslevent@uoguelph.ca or fill out the online application. \nAs an international ELP student\, moving to a foreign country to learn a new language and culture can be challenging\, so this is a great opportunity to support\, engage and get to know someone who really appreciates it. All you need to do is give one to two hours of your time per week. \nLocation: Johnston Hall\, Room 154C
URL:https://news.uoguelph.ca/event/volunteers-needed-english-language-buddy-program/
END:VEVENT
BEGIN:VEVENT
DTSTART;VALUE=DATE:20170605
DTEND;VALUE=DATE:20170607
DTSTAMP:20260423T163434
CREATED:20170421T203514Z
LAST-MODIFIED:20170421T203514Z
UID:26288-1496620800-1496793599@news.uoguelph.ca
SUMMARY:Brain Food Graduate Thesis Workshops
DESCRIPTION:At Brain Food workshops\, graduate students will learn how to approach their research and writing with confidence and meet other graduate students who are also experiencing the trials and tribulations of graduate work. Three separate half-day workshops are offered\, and registration is required. \nLocation: McLaughlin Library
URL:https://news.uoguelph.ca/event/brain-food-graduate-thesis-workshops/
END:VEVENT
BEGIN:VEVENT
DTSTART;VALUE=DATE:20170605
DTEND;VALUE=DATE:20170607
DTSTAMP:20260423T163434
CREATED:20170426T135828Z
LAST-MODIFIED:20170426T135828Z
UID:26333-1496620800-1496793599@news.uoguelph.ca
SUMMARY:Food and Agriculture Business Seminar
DESCRIPTION:This seminar’s cases explore shifting roles of government\, food security\, consumer perspective and developing markets in real scenarios that top industry businesses and organizations have faced. \nLocation: Rozanski Hall
URL:https://news.uoguelph.ca/event/food-agriculture-business-seminar/
CATEGORIES:Homepage
END:VEVENT
END:VCALENDAR