BEGIN:VCALENDAR
VERSION:2.0
PRODID:-//U of G News - ECPv6.15.11//NONSGML v1.0//EN
CALSCALE:GREGORIAN
METHOD:PUBLISH
X-WR-CALNAME:U of G News
X-ORIGINAL-URL:https://news.uoguelph.ca
X-WR-CALDESC:Events for U of G News
REFRESH-INTERVAL;VALUE=DURATION:PT1H
X-Robots-Tag:noindex
X-PUBLISHED-TTL:PT1H
BEGIN:VTIMEZONE
TZID:America/Toronto
BEGIN:DAYLIGHT
TZOFFSETFROM:-0500
TZOFFSETTO:-0400
TZNAME:EDT
DTSTART:20150308T070000
END:DAYLIGHT
BEGIN:STANDARD
TZOFFSETFROM:-0400
TZOFFSETTO:-0500
TZNAME:EST
DTSTART:20151101T060000
END:STANDARD
BEGIN:DAYLIGHT
TZOFFSETFROM:-0500
TZOFFSETTO:-0400
TZNAME:EDT
DTSTART:20160313T070000
END:DAYLIGHT
BEGIN:STANDARD
TZOFFSETFROM:-0400
TZOFFSETTO:-0500
TZNAME:EST
DTSTART:20161106T060000
END:STANDARD
BEGIN:DAYLIGHT
TZOFFSETFROM:-0500
TZOFFSETTO:-0400
TZNAME:EDT
DTSTART:20170312T070000
END:DAYLIGHT
BEGIN:STANDARD
TZOFFSETFROM:-0400
TZOFFSETTO:-0500
TZNAME:EST
DTSTART:20171105T060000
END:STANDARD
END:VTIMEZONE
BEGIN:VEVENT
DTSTART;VALUE=DATE:20160505
DTEND;VALUE=DATE:20160506
DTSTAMP:20260425T091139
CREATED:20160331T193031Z
LAST-MODIFIED:20160331T193146Z
UID:19773-1462406400-1462492799@news.uoguelph.ca
SUMMARY:PhD Thesis Defence: Martin King
DESCRIPTION:Martin King\, a PhD candidate in the Department of Philosophy\, will defend his thesis on “Scientific Explanation: Towards a Neo-Deductivist Account.” His adviser is Prof. Andrew Wayne. \nTime: 10 a.m. \nLocation: MacKinnon Building\, Room 346
URL:https://news.uoguelph.ca/event/phd-thesis-defence-martin-king/
END:VEVENT
BEGIN:VEVENT
DTSTART;VALUE=DATE:20160505
DTEND;VALUE=DATE:20160506
DTSTAMP:20260425T091139
CREATED:20160503T134142Z
LAST-MODIFIED:20160503T134142Z
UID:20391-1462406400-1462492799@news.uoguelph.ca
SUMMARY:MLA Thesis Defence: Corey Dawson
DESCRIPTION:Corey Dawson\, a master of landscape architecture candidate in the School of Environmental Design and Rural Development\, will defend his thesis on “The Role of Landscape Architecture in Landform Grading: Terrain Complexity Index.” The adviser is Prof. Robert Corry. All are welcome to attend. \nTime: 9:30 a.m. \nLocation: Landscape Architecture\, Room 125
URL:https://news.uoguelph.ca/event/mla-thesis-defence-corey-dawson/
END:VEVENT
END:VCALENDAR