BEGIN:VCALENDAR
VERSION:2.0
PRODID:-//U of G News - ECPv6.15.11//NONSGML v1.0//EN
CALSCALE:GREGORIAN
METHOD:PUBLISH
X-ORIGINAL-URL:https://news.uoguelph.ca
X-WR-CALDESC:Events for U of G News
REFRESH-INTERVAL;VALUE=DURATION:PT1H
X-Robots-Tag:noindex
X-PUBLISHED-TTL:PT1H
BEGIN:VTIMEZONE
TZID:America/Toronto
BEGIN:DAYLIGHT
TZOFFSETFROM:-0500
TZOFFSETTO:-0400
TZNAME:EDT
DTSTART:20150308T070000
END:DAYLIGHT
BEGIN:STANDARD
TZOFFSETFROM:-0400
TZOFFSETTO:-0500
TZNAME:EST
DTSTART:20151101T060000
END:STANDARD
BEGIN:DAYLIGHT
TZOFFSETFROM:-0500
TZOFFSETTO:-0400
TZNAME:EDT
DTSTART:20160313T070000
END:DAYLIGHT
BEGIN:STANDARD
TZOFFSETFROM:-0400
TZOFFSETTO:-0500
TZNAME:EST
DTSTART:20161106T060000
END:STANDARD
BEGIN:DAYLIGHT
TZOFFSETFROM:-0500
TZOFFSETTO:-0400
TZNAME:EDT
DTSTART:20170312T070000
END:DAYLIGHT
BEGIN:STANDARD
TZOFFSETFROM:-0400
TZOFFSETTO:-0500
TZNAME:EST
DTSTART:20171105T060000
END:STANDARD
END:VTIMEZONE
BEGIN:VEVENT
DTSTART;VALUE=DATE:20160503
DTEND;VALUE=DATE:20160504
DTSTAMP:20260425T091428
CREATED:20160411T194904Z
LAST-MODIFIED:20160411T195005Z
UID:20001-1462233600-1462319999@news.uoguelph.ca
SUMMARY:PhD Thesis Defence: Shirene Singh
DESCRIPTION:Shirene Singh\, a PhD candidate in the Department of Pathobiology\, will defend her thesis on “Enhancement of Avian Influenza Virus Vaccines in Chickens Through Identification and Application of Novel Mucosal Adjuvants.” The adviser is Prof. Shayan Sharif. \nExamination committee: \nProf. Patrick Boerlin\, chair\nProf. Shayan Sharif\, Pathobiology\nProf. Eva Nagy\, Pathobiology\nProf. Byram Bridle\, Pathobiology\nProf. Arshud Dar\, VIDO\, Saskatoon\, Sask. \nTime: 11 a.m. \nLocation: OVC Pathobiology AHL\, Room 1810 and 4838
URL:https://news.uoguelph.ca/event/phd-thesis-defence-shirene-singh/
END:VEVENT
END:VCALENDAR