BEGIN:VCALENDAR
VERSION:2.0
PRODID:-//U of G News - ECPv6.15.11//NONSGML v1.0//EN
CALSCALE:GREGORIAN
METHOD:PUBLISH
X-WR-CALNAME:U of G News
X-ORIGINAL-URL:https://news.uoguelph.ca
X-WR-CALDESC:Events for U of G News
REFRESH-INTERVAL;VALUE=DURATION:PT1H
X-Robots-Tag:noindex
X-PUBLISHED-TTL:PT1H
BEGIN:VTIMEZONE
TZID:America/Toronto
BEGIN:DAYLIGHT
TZOFFSETFROM:-0500
TZOFFSETTO:-0400
TZNAME:EDT
DTSTART:20210314T070000
END:DAYLIGHT
BEGIN:STANDARD
TZOFFSETFROM:-0400
TZOFFSETTO:-0500
TZNAME:EST
DTSTART:20211107T060000
END:STANDARD
BEGIN:DAYLIGHT
TZOFFSETFROM:-0500
TZOFFSETTO:-0400
TZNAME:EDT
DTSTART:20220313T070000
END:DAYLIGHT
BEGIN:STANDARD
TZOFFSETFROM:-0400
TZOFFSETTO:-0500
TZNAME:EST
DTSTART:20221106T060000
END:STANDARD
BEGIN:DAYLIGHT
TZOFFSETFROM:-0500
TZOFFSETTO:-0400
TZNAME:EDT
DTSTART:20230312T070000
END:DAYLIGHT
BEGIN:STANDARD
TZOFFSETFROM:-0400
TZOFFSETTO:-0500
TZNAME:EST
DTSTART:20231105T060000
END:STANDARD
END:VTIMEZONE
BEGIN:VEVENT
DTSTART;TZID=America/Toronto:20221018T083000
DTEND;TZID=America/Toronto:20221018T163000
DTSTAMP:20260425T072007
CREATED:20221013T192714Z
LAST-MODIFIED:20221013T192714Z
UID:87327-1666081800-1666110600@news.uoguelph.ca
SUMMARY:Study Abroad Fair
DESCRIPTION:Join the Centre for International Programs at the Study Abroad Fair to learn about the different programs available to go abroad and the supports available to make it happen. Over the course of three days\, you can join various in-person and virtual sessions. The main event is our poster fair happening on Wednesday\, October 19 in the UC Courtyard! At the poster fair we will have our incoming exchange students and CIP staff available to answer your questions. \nThe week of October 17-21\, CIP will be at the UAIC front desk on the first floor of the UC to answer your questions!
URL:https://news.uoguelph.ca/event/study-abroad-fair-2/2022-10-18/
CATEGORIES:Intranet Events
ATTACH;FMTTYPE=image/png:https://news.uoguelph.ca/wp-content/uploads/2022/10/Study-Abroad-Fair-U-of-G-Event-e1665689222490.png
END:VEVENT
END:VCALENDAR