BEGIN:VCALENDAR
VERSION:2.0
PRODID:-//U of G News - ECPv6.15.11//NONSGML v1.0//EN
CALSCALE:GREGORIAN
METHOD:PUBLISH
X-ORIGINAL-URL:https://news.uoguelph.ca
X-WR-CALDESC:Events for U of G News
REFRESH-INTERVAL;VALUE=DURATION:PT1H
X-Robots-Tag:noindex
X-PUBLISHED-TTL:PT1H
BEGIN:VTIMEZONE
TZID:America/Toronto
BEGIN:DAYLIGHT
TZOFFSETFROM:-0500
TZOFFSETTO:-0400
TZNAME:EDT
DTSTART:20250309T070000
END:DAYLIGHT
BEGIN:STANDARD
TZOFFSETFROM:-0400
TZOFFSETTO:-0500
TZNAME:EST
DTSTART:20251102T060000
END:STANDARD
BEGIN:DAYLIGHT
TZOFFSETFROM:-0500
TZOFFSETTO:-0400
TZNAME:EDT
DTSTART:20260308T070000
END:DAYLIGHT
BEGIN:STANDARD
TZOFFSETFROM:-0400
TZOFFSETTO:-0500
TZNAME:EST
DTSTART:20261101T060000
END:STANDARD
BEGIN:DAYLIGHT
TZOFFSETFROM:-0500
TZOFFSETTO:-0400
TZNAME:EDT
DTSTART:20270314T070000
END:DAYLIGHT
BEGIN:STANDARD
TZOFFSETFROM:-0400
TZOFFSETTO:-0500
TZNAME:EST
DTSTART:20271107T060000
END:STANDARD
END:VTIMEZONE
BEGIN:VEVENT
DTSTART;TZID=America/Toronto:20260528T080000
DTEND;TZID=America/Toronto:20260528T100000
DTSTAMP:20260424T013248
CREATED:20260423T200357Z
LAST-MODIFIED:20260423T200357Z
UID:214057-1779955200-1779962400@news.uoguelph.ca
SUMMARY:Spring Birdwatching Hike
DESCRIPTION:Spring is in the air—and so are the birds! This is the perfect time to get outside and spot migrating birds as they pass through in their vibrant plumage\, filling the air with song. Join us for a guided birdwatching hike through The Arboretum\, where we’ll explore a variety of habitats in search of both resident and migrating species. Whether you’re an experienced birder or just getting started\, this hike is a great opportunity to sharpen your skills and experience the magic of spring. Binoculars will be provided. \n*Maximum 20 adults. \nFee: $12 (plus HST) per person\, per day. \nThursday\, May 28 OR Friday\, May 29\, 2026
URL:https://news.uoguelph.ca/event/spring-birdwatching-hike/2026-05-28/
LOCATION:Arboretum Centre\, 250 Arboretum Rd\, Guelph\, N1G 2W1\, Canada
GEO:43.5399138;-80.2167942
X-APPLE-STRUCTURED-LOCATION;VALUE=URI;X-ADDRESS=Arboretum Centre 250 Arboretum Rd Guelph N1G 2W1 Canada;X-APPLE-RADIUS=500;X-TITLE=250 Arboretum Rd:geo:-80.2167942,43.5399138
END:VEVENT
BEGIN:VEVENT
DTSTART;TZID=America/Toronto:20260529T080000
DTEND;TZID=America/Toronto:20260529T100000
DTSTAMP:20260424T013248
CREATED:20260423T200358Z
LAST-MODIFIED:20260423T200358Z
UID:214060-1780041600-1780048800@news.uoguelph.ca
SUMMARY:Spring Birdwatching Hike
DESCRIPTION:Spring is in the air—and so are the birds! This is the perfect time to get outside and spot migrating birds as they pass through in their vibrant plumage\, filling the air with song. Join us for a guided birdwatching hike through The Arboretum\, where we’ll explore a variety of habitats in search of both resident and migrating species. Whether you’re an experienced birder or just getting started\, this hike is a great opportunity to sharpen your skills and experience the magic of spring. Binoculars will be provided. \n*Maximum 20 adults. \nFee: $12 (plus HST) per person\, per day. \nThursday\, May 28 OR Friday\, May 29\, 2026
URL:https://news.uoguelph.ca/event/spring-birdwatching-hike/2026-05-29/
LOCATION:Arboretum Centre\, 250 Arboretum Rd\, Guelph\, N1G 2W1\, Canada
GEO:43.5399138;-80.2167942
X-APPLE-STRUCTURED-LOCATION;VALUE=URI;X-ADDRESS=Arboretum Centre 250 Arboretum Rd Guelph N1G 2W1 Canada;X-APPLE-RADIUS=500;X-TITLE=250 Arboretum Rd:geo:-80.2167942,43.5399138
END:VEVENT
END:VCALENDAR