BEGIN:VCALENDAR
VERSION:2.0
PRODID:-//U of G News - ECPv6.15.11//NONSGML v1.0//EN
CALSCALE:GREGORIAN
METHOD:PUBLISH
X-WR-CALNAME:U of G News
X-ORIGINAL-URL:https://news.uoguelph.ca
X-WR-CALDESC:Events for U of G News
REFRESH-INTERVAL;VALUE=DURATION:PT1H
X-Robots-Tag:noindex
X-PUBLISHED-TTL:PT1H
BEGIN:VTIMEZONE
TZID:America/Toronto
BEGIN:DAYLIGHT
TZOFFSETFROM:-0500
TZOFFSETTO:-0400
TZNAME:EDT
DTSTART:20190310T070000
END:DAYLIGHT
BEGIN:STANDARD
TZOFFSETFROM:-0400
TZOFFSETTO:-0500
TZNAME:EST
DTSTART:20191103T060000
END:STANDARD
BEGIN:DAYLIGHT
TZOFFSETFROM:-0500
TZOFFSETTO:-0400
TZNAME:EDT
DTSTART:20200308T070000
END:DAYLIGHT
BEGIN:STANDARD
TZOFFSETFROM:-0400
TZOFFSETTO:-0500
TZNAME:EST
DTSTART:20201101T060000
END:STANDARD
BEGIN:DAYLIGHT
TZOFFSETFROM:-0500
TZOFFSETTO:-0400
TZNAME:EDT
DTSTART:20210314T070000
END:DAYLIGHT
BEGIN:STANDARD
TZOFFSETFROM:-0400
TZOFFSETTO:-0500
TZNAME:EST
DTSTART:20211107T060000
END:STANDARD
END:VTIMEZONE
BEGIN:VEVENT
DTSTART;TZID=America/Toronto:20201026T130000
DTEND;TZID=America/Toronto:20201026T143000
DTSTAMP:20260423T094856
CREATED:20200917T134341Z
LAST-MODIFIED:20200917T150534Z
UID:57910-1603717200-1603722600@news.uoguelph.ca
SUMMARY:ONLINE: Create Posters with Canva
DESCRIPTION:Canva is a web-based graphic design tool to create posters\, infographics\, social media posts and more. Use templates or create from scratch. Join staff from the library’s media studio to learn about this tool and practice creating a poster. \nDuring the end of the workshop\, participants will: \n\ndiscuss strengths and limitations of Canva\nidentify strategies for designing your project\ncreate a Canva account\npractice creating with Canva
URL:https://news.uoguelph.ca/event/online-create-posters-with-canva/2020-10-26/
LOCATION:ONLINE\, Ontario\, Canada
CATEGORIES:Intranet Events
GEO:51.253775;-85.323214
END:VEVENT
END:VCALENDAR