BEGIN:VCALENDAR
VERSION:2.0
PRODID:-//U of G News - ECPv6.15.11//NONSGML v1.0//EN
CALSCALE:GREGORIAN
METHOD:PUBLISH
X-WR-CALNAME:U of G News
X-ORIGINAL-URL:https://news.uoguelph.ca
X-WR-CALDESC:Events for U of G News
REFRESH-INTERVAL;VALUE=DURATION:PT1H
X-Robots-Tag:noindex
X-PUBLISHED-TTL:PT1H
BEGIN:VTIMEZONE
TZID:America/Toronto
BEGIN:DAYLIGHT
TZOFFSETFROM:-0500
TZOFFSETTO:-0400
TZNAME:EDT
DTSTART:20240310T070000
END:DAYLIGHT
BEGIN:STANDARD
TZOFFSETFROM:-0400
TZOFFSETTO:-0500
TZNAME:EST
DTSTART:20241103T060000
END:STANDARD
BEGIN:DAYLIGHT
TZOFFSETFROM:-0500
TZOFFSETTO:-0400
TZNAME:EDT
DTSTART:20250309T070000
END:DAYLIGHT
BEGIN:STANDARD
TZOFFSETFROM:-0400
TZOFFSETTO:-0500
TZNAME:EST
DTSTART:20251102T060000
END:STANDARD
BEGIN:DAYLIGHT
TZOFFSETFROM:-0500
TZOFFSETTO:-0400
TZNAME:EDT
DTSTART:20260308T070000
END:DAYLIGHT
BEGIN:STANDARD
TZOFFSETFROM:-0400
TZOFFSETTO:-0500
TZNAME:EST
DTSTART:20261101T060000
END:STANDARD
END:VTIMEZONE
BEGIN:VEVENT
DTSTART;TZID=America/Toronto:20250731T130000
DTEND;TZID=America/Toronto:20250731T150000
DTSTAMP:20260423T012621
CREATED:20250422T150104Z
LAST-MODIFIED:20250429T172953Z
UID:166548-1753966800-1753974000@news.uoguelph.ca
SUMMARY:Graduate Accountability Group
DESCRIPTION:The Graduate Student Accountability Group provides a welcoming\, safe\, and productive online space for graduate students to do their work. The group is facilitated by a learning specialist and is designed to help you identify small goals and accomplish them during short work periods. \nComments from previous participants: \n“The group is a great way to work in community and accomplish tasks in a set amount of time.” “DO IT! I was able to tackle lack of motivation and be productive in each session. The group helped me progress through the semester more than I would have on my own.” \nThe format for each two-hour session is: \n\nIntroductions and micro goal setting in group\n25 minutes of independent work\nReview micro goal with group and set goal for next 25 minutes\n25 Minutes of independent work\nReview micro goal with group and set goal for next 25 minutes\n25 Minutes of independent work\nDebrief and share main goal to be completed before next accountability group\n\nQuestions? Email library@uoguelph.ca. \nPlease note that you are registering for the entire semester of the Graduate Student Accountability Group\, which meets May 29 – July 31\, 2025. We encourage regular participation throughout the semester. \nOnce you sign up\, you will be invited to the weekly Teams meeting. Please use the rsvp function each week to confirm attendance. \nThank you\, and we look forward to working with you!
URL:https://news.uoguelph.ca/event/graduate-accountability-group-5/2025-07-31/
LOCATION:ONLINE\, Ontario\, Canada
ATTACH;FMTTYPE=image/jpeg:https://news.uoguelph.ca/wp-content/uploads/2025/04/S25_Graduate-Accountability-Group_X-TW-e1745947760316.jpg
GEO:51.253775;-85.323214
END:VEVENT
BEGIN:VEVENT
DTSTART;TZID=America/Toronto:20250724T130000
DTEND;TZID=America/Toronto:20250724T150000
DTSTAMP:20260423T012621
CREATED:20250422T150104Z
LAST-MODIFIED:20250429T172951Z
UID:166547-1753362000-1753369200@news.uoguelph.ca
SUMMARY:Graduate Accountability Group
DESCRIPTION:The Graduate Student Accountability Group provides a welcoming\, safe\, and productive online space for graduate students to do their work. The group is facilitated by a learning specialist and is designed to help you identify small goals and accomplish them during short work periods. \nComments from previous participants: \n“The group is a great way to work in community and accomplish tasks in a set amount of time.” “DO IT! I was able to tackle lack of motivation and be productive in each session. The group helped me progress through the semester more than I would have on my own.” \nThe format for each two-hour session is: \n\nIntroductions and micro goal setting in group\n25 minutes of independent work\nReview micro goal with group and set goal for next 25 minutes\n25 Minutes of independent work\nReview micro goal with group and set goal for next 25 minutes\n25 Minutes of independent work\nDebrief and share main goal to be completed before next accountability group\n\nQuestions? Email library@uoguelph.ca. \nPlease note that you are registering for the entire semester of the Graduate Student Accountability Group\, which meets May 29 – July 31\, 2025. We encourage regular participation throughout the semester. \nOnce you sign up\, you will be invited to the weekly Teams meeting. Please use the rsvp function each week to confirm attendance. \nThank you\, and we look forward to working with you!
URL:https://news.uoguelph.ca/event/graduate-accountability-group-5/2025-07-24/
LOCATION:ONLINE\, Ontario\, Canada
ATTACH;FMTTYPE=image/jpeg:https://news.uoguelph.ca/wp-content/uploads/2025/04/S25_Graduate-Accountability-Group_X-TW-e1745947760316.jpg
GEO:51.253775;-85.323214
END:VEVENT
BEGIN:VEVENT
DTSTART;TZID=America/Toronto:20250717T130000
DTEND;TZID=America/Toronto:20250717T150000
DTSTAMP:20260423T012621
CREATED:20250422T150104Z
LAST-MODIFIED:20250429T172949Z
UID:166546-1752757200-1752764400@news.uoguelph.ca
SUMMARY:Graduate Accountability Group
DESCRIPTION:The Graduate Student Accountability Group provides a welcoming\, safe\, and productive online space for graduate students to do their work. The group is facilitated by a learning specialist and is designed to help you identify small goals and accomplish them during short work periods. \nComments from previous participants: \n“The group is a great way to work in community and accomplish tasks in a set amount of time.” “DO IT! I was able to tackle lack of motivation and be productive in each session. The group helped me progress through the semester more than I would have on my own.” \nThe format for each two-hour session is: \n\nIntroductions and micro goal setting in group\n25 minutes of independent work\nReview micro goal with group and set goal for next 25 minutes\n25 Minutes of independent work\nReview micro goal with group and set goal for next 25 minutes\n25 Minutes of independent work\nDebrief and share main goal to be completed before next accountability group\n\nQuestions? Email library@uoguelph.ca. \nPlease note that you are registering for the entire semester of the Graduate Student Accountability Group\, which meets May 29 – July 31\, 2025. We encourage regular participation throughout the semester. \nOnce you sign up\, you will be invited to the weekly Teams meeting. Please use the rsvp function each week to confirm attendance. \nThank you\, and we look forward to working with you!
URL:https://news.uoguelph.ca/event/graduate-accountability-group-5/2025-07-17/
LOCATION:ONLINE\, Ontario\, Canada
ATTACH;FMTTYPE=image/jpeg:https://news.uoguelph.ca/wp-content/uploads/2025/04/S25_Graduate-Accountability-Group_X-TW-e1745947760316.jpg
GEO:51.253775;-85.323214
END:VEVENT
BEGIN:VEVENT
DTSTART;TZID=America/Toronto:20250710T130000
DTEND;TZID=America/Toronto:20250710T150000
DTSTAMP:20260423T012621
CREATED:20250422T150104Z
LAST-MODIFIED:20250429T172947Z
UID:166545-1752152400-1752159600@news.uoguelph.ca
SUMMARY:Graduate Accountability Group
DESCRIPTION:The Graduate Student Accountability Group provides a welcoming\, safe\, and productive online space for graduate students to do their work. The group is facilitated by a learning specialist and is designed to help you identify small goals and accomplish them during short work periods. \nComments from previous participants: \n“The group is a great way to work in community and accomplish tasks in a set amount of time.” “DO IT! I was able to tackle lack of motivation and be productive in each session. The group helped me progress through the semester more than I would have on my own.” \nThe format for each two-hour session is: \n\nIntroductions and micro goal setting in group\n25 minutes of independent work\nReview micro goal with group and set goal for next 25 minutes\n25 Minutes of independent work\nReview micro goal with group and set goal for next 25 minutes\n25 Minutes of independent work\nDebrief and share main goal to be completed before next accountability group\n\nQuestions? Email library@uoguelph.ca. \nPlease note that you are registering for the entire semester of the Graduate Student Accountability Group\, which meets May 29 – July 31\, 2025. We encourage regular participation throughout the semester. \nOnce you sign up\, you will be invited to the weekly Teams meeting. Please use the rsvp function each week to confirm attendance. \nThank you\, and we look forward to working with you!
URL:https://news.uoguelph.ca/event/graduate-accountability-group-5/2025-07-10/
LOCATION:ONLINE\, Ontario\, Canada
ATTACH;FMTTYPE=image/jpeg:https://news.uoguelph.ca/wp-content/uploads/2025/04/S25_Graduate-Accountability-Group_X-TW-e1745947760316.jpg
GEO:51.253775;-85.323214
END:VEVENT
BEGIN:VEVENT
DTSTART;TZID=America/Toronto:20250703T130000
DTEND;TZID=America/Toronto:20250703T150000
DTSTAMP:20260423T012621
CREATED:20250422T150104Z
LAST-MODIFIED:20250429T172945Z
UID:166544-1751547600-1751554800@news.uoguelph.ca
SUMMARY:Graduate Accountability Group
DESCRIPTION:The Graduate Student Accountability Group provides a welcoming\, safe\, and productive online space for graduate students to do their work. The group is facilitated by a learning specialist and is designed to help you identify small goals and accomplish them during short work periods. \nComments from previous participants: \n“The group is a great way to work in community and accomplish tasks in a set amount of time.” “DO IT! I was able to tackle lack of motivation and be productive in each session. The group helped me progress through the semester more than I would have on my own.” \nThe format for each two-hour session is: \n\nIntroductions and micro goal setting in group\n25 minutes of independent work\nReview micro goal with group and set goal for next 25 minutes\n25 Minutes of independent work\nReview micro goal with group and set goal for next 25 minutes\n25 Minutes of independent work\nDebrief and share main goal to be completed before next accountability group\n\nQuestions? Email library@uoguelph.ca. \nPlease note that you are registering for the entire semester of the Graduate Student Accountability Group\, which meets May 29 – July 31\, 2025. We encourage regular participation throughout the semester. \nOnce you sign up\, you will be invited to the weekly Teams meeting. Please use the rsvp function each week to confirm attendance. \nThank you\, and we look forward to working with you!
URL:https://news.uoguelph.ca/event/graduate-accountability-group-5/2025-07-03/
LOCATION:ONLINE\, Ontario\, Canada
ATTACH;FMTTYPE=image/jpeg:https://news.uoguelph.ca/wp-content/uploads/2025/04/S25_Graduate-Accountability-Group_X-TW-e1745947760316.jpg
GEO:51.253775;-85.323214
END:VEVENT
BEGIN:VEVENT
DTSTART;TZID=America/Toronto:20250626T130000
DTEND;TZID=America/Toronto:20250626T150000
DTSTAMP:20260423T012621
CREATED:20250422T150104Z
LAST-MODIFIED:20250429T172943Z
UID:166543-1750942800-1750950000@news.uoguelph.ca
SUMMARY:Graduate Accountability Group
DESCRIPTION:The Graduate Student Accountability Group provides a welcoming\, safe\, and productive online space for graduate students to do their work. The group is facilitated by a learning specialist and is designed to help you identify small goals and accomplish them during short work periods. \nComments from previous participants: \n“The group is a great way to work in community and accomplish tasks in a set amount of time.” “DO IT! I was able to tackle lack of motivation and be productive in each session. The group helped me progress through the semester more than I would have on my own.” \nThe format for each two-hour session is: \n\nIntroductions and micro goal setting in group\n25 minutes of independent work\nReview micro goal with group and set goal for next 25 minutes\n25 Minutes of independent work\nReview micro goal with group and set goal for next 25 minutes\n25 Minutes of independent work\nDebrief and share main goal to be completed before next accountability group\n\nQuestions? Email library@uoguelph.ca. \nPlease note that you are registering for the entire semester of the Graduate Student Accountability Group\, which meets May 29 – July 31\, 2025. We encourage regular participation throughout the semester. \nOnce you sign up\, you will be invited to the weekly Teams meeting. Please use the rsvp function each week to confirm attendance. \nThank you\, and we look forward to working with you!
URL:https://news.uoguelph.ca/event/graduate-accountability-group-5/2025-06-26/
LOCATION:ONLINE\, Ontario\, Canada
ATTACH;FMTTYPE=image/jpeg:https://news.uoguelph.ca/wp-content/uploads/2025/04/S25_Graduate-Accountability-Group_X-TW-e1745947760316.jpg
GEO:51.253775;-85.323214
END:VEVENT
BEGIN:VEVENT
DTSTART;TZID=America/Toronto:20250619T130000
DTEND;TZID=America/Toronto:20250619T150000
DTSTAMP:20260423T012621
CREATED:20250422T150104Z
LAST-MODIFIED:20250429T172941Z
UID:166542-1750338000-1750345200@news.uoguelph.ca
SUMMARY:Graduate Accountability Group
DESCRIPTION:The Graduate Student Accountability Group provides a welcoming\, safe\, and productive online space for graduate students to do their work. The group is facilitated by a learning specialist and is designed to help you identify small goals and accomplish them during short work periods. \nComments from previous participants: \n“The group is a great way to work in community and accomplish tasks in a set amount of time.” “DO IT! I was able to tackle lack of motivation and be productive in each session. The group helped me progress through the semester more than I would have on my own.” \nThe format for each two-hour session is: \n\nIntroductions and micro goal setting in group\n25 minutes of independent work\nReview micro goal with group and set goal for next 25 minutes\n25 Minutes of independent work\nReview micro goal with group and set goal for next 25 minutes\n25 Minutes of independent work\nDebrief and share main goal to be completed before next accountability group\n\nQuestions? Email library@uoguelph.ca. \nPlease note that you are registering for the entire semester of the Graduate Student Accountability Group\, which meets May 29 – July 31\, 2025. We encourage regular participation throughout the semester. \nOnce you sign up\, you will be invited to the weekly Teams meeting. Please use the rsvp function each week to confirm attendance. \nThank you\, and we look forward to working with you!
URL:https://news.uoguelph.ca/event/graduate-accountability-group-5/2025-06-19/
LOCATION:ONLINE\, Ontario\, Canada
ATTACH;FMTTYPE=image/jpeg:https://news.uoguelph.ca/wp-content/uploads/2025/04/S25_Graduate-Accountability-Group_X-TW-e1745947760316.jpg
GEO:51.253775;-85.323214
END:VEVENT
BEGIN:VEVENT
DTSTART;TZID=America/Toronto:20250612T130000
DTEND;TZID=America/Toronto:20250612T150000
DTSTAMP:20260423T012621
CREATED:20250422T150104Z
LAST-MODIFIED:20250429T172938Z
UID:166541-1749733200-1749740400@news.uoguelph.ca
SUMMARY:Graduate Accountability Group
DESCRIPTION:The Graduate Student Accountability Group provides a welcoming\, safe\, and productive online space for graduate students to do their work. The group is facilitated by a learning specialist and is designed to help you identify small goals and accomplish them during short work periods. \nComments from previous participants: \n“The group is a great way to work in community and accomplish tasks in a set amount of time.” “DO IT! I was able to tackle lack of motivation and be productive in each session. The group helped me progress through the semester more than I would have on my own.” \nThe format for each two-hour session is: \n\nIntroductions and micro goal setting in group\n25 minutes of independent work\nReview micro goal with group and set goal for next 25 minutes\n25 Minutes of independent work\nReview micro goal with group and set goal for next 25 minutes\n25 Minutes of independent work\nDebrief and share main goal to be completed before next accountability group\n\nQuestions? Email library@uoguelph.ca. \nPlease note that you are registering for the entire semester of the Graduate Student Accountability Group\, which meets May 29 – July 31\, 2025. We encourage regular participation throughout the semester. \nOnce you sign up\, you will be invited to the weekly Teams meeting. Please use the rsvp function each week to confirm attendance. \nThank you\, and we look forward to working with you!
URL:https://news.uoguelph.ca/event/graduate-accountability-group-5/2025-06-12/
LOCATION:ONLINE\, Ontario\, Canada
ATTACH;FMTTYPE=image/jpeg:https://news.uoguelph.ca/wp-content/uploads/2025/04/S25_Graduate-Accountability-Group_X-TW-e1745947760316.jpg
GEO:51.253775;-85.323214
END:VEVENT
BEGIN:VEVENT
DTSTART;TZID=America/Toronto:20250605T130000
DTEND;TZID=America/Toronto:20250605T150000
DTSTAMP:20260423T012621
CREATED:20250422T150104Z
LAST-MODIFIED:20250429T172936Z
UID:166540-1749128400-1749135600@news.uoguelph.ca
SUMMARY:Graduate Accountability Group
DESCRIPTION:The Graduate Student Accountability Group provides a welcoming\, safe\, and productive online space for graduate students to do their work. The group is facilitated by a learning specialist and is designed to help you identify small goals and accomplish them during short work periods. \nComments from previous participants: \n“The group is a great way to work in community and accomplish tasks in a set amount of time.” “DO IT! I was able to tackle lack of motivation and be productive in each session. The group helped me progress through the semester more than I would have on my own.” \nThe format for each two-hour session is: \n\nIntroductions and micro goal setting in group\n25 minutes of independent work\nReview micro goal with group and set goal for next 25 minutes\n25 Minutes of independent work\nReview micro goal with group and set goal for next 25 minutes\n25 Minutes of independent work\nDebrief and share main goal to be completed before next accountability group\n\nQuestions? Email library@uoguelph.ca. \nPlease note that you are registering for the entire semester of the Graduate Student Accountability Group\, which meets May 29 – July 31\, 2025. We encourage regular participation throughout the semester. \nOnce you sign up\, you will be invited to the weekly Teams meeting. Please use the rsvp function each week to confirm attendance. \nThank you\, and we look forward to working with you!
URL:https://news.uoguelph.ca/event/graduate-accountability-group-5/2025-06-05/
LOCATION:ONLINE\, Ontario\, Canada
ATTACH;FMTTYPE=image/jpeg:https://news.uoguelph.ca/wp-content/uploads/2025/04/S25_Graduate-Accountability-Group_X-TW-e1745947760316.jpg
GEO:51.253775;-85.323214
END:VEVENT
BEGIN:VEVENT
DTSTART;TZID=America/Toronto:20250529T130000
DTEND;TZID=America/Toronto:20250529T150000
DTSTAMP:20260423T012621
CREATED:20250422T150104Z
LAST-MODIFIED:20250429T172935Z
UID:166539-1748523600-1748530800@news.uoguelph.ca
SUMMARY:Graduate Accountability Group
DESCRIPTION:The Graduate Student Accountability Group provides a welcoming\, safe\, and productive online space for graduate students to do their work. The group is facilitated by a learning specialist and is designed to help you identify small goals and accomplish them during short work periods. \nComments from previous participants: \n“The group is a great way to work in community and accomplish tasks in a set amount of time.” “DO IT! I was able to tackle lack of motivation and be productive in each session. The group helped me progress through the semester more than I would have on my own.” \nThe format for each two-hour session is: \n\nIntroductions and micro goal setting in group\n25 minutes of independent work\nReview micro goal with group and set goal for next 25 minutes\n25 Minutes of independent work\nReview micro goal with group and set goal for next 25 minutes\n25 Minutes of independent work\nDebrief and share main goal to be completed before next accountability group\n\nQuestions? Email library@uoguelph.ca. \nPlease note that you are registering for the entire semester of the Graduate Student Accountability Group\, which meets May 29 – July 31\, 2025. We encourage regular participation throughout the semester. \nOnce you sign up\, you will be invited to the weekly Teams meeting. Please use the rsvp function each week to confirm attendance. \nThank you\, and we look forward to working with you!
URL:https://news.uoguelph.ca/event/graduate-accountability-group-5/2025-05-29/
LOCATION:ONLINE\, Ontario\, Canada
ATTACH;FMTTYPE=image/jpeg:https://news.uoguelph.ca/wp-content/uploads/2025/04/S25_Graduate-Accountability-Group_X-TW-e1745947760316.jpg
GEO:51.253775;-85.323214
END:VEVENT
END:VCALENDAR